Workbook

Sheet data
A1: Calendar | B1: id | C1: nb | D1: 2 | F1: =COUNTA(FastCalendar!B1:FastCalendar!B600) -> 1 | I1: =COUNTA(FastCalendar!A1:FastCalendar!A600) -> 1 | J1: =COUNTIF(F2:F600,"ok")+2 -> 3 | K1: =count(FastCalendar!C2:FastCalendar!C600)+1 -> 1
A2: Запись клиентов | B2: fg7l0us2s9djrbecc1kagmbk4c@group.calendar.google.com | F2: ok | H2: =if(FastCalendar!A2="","",VLOOKUP(FastCalendar!A2,data!$A$2:$B$600,2)) -> #REF! | J2: =if(FastCalendar!C2="","",FastCalendar!C2+FastCalendar!D2) -> #REF! | K2: =if(FastCalendar!C2="","",FastCalendar!C2+FastCalendar!E2) -> #REF!
A3: kanat81adilbekov@gmail.com | B3: kanat81adilbekov@gmail.com | H3: =if(FastCalendar!A3="","",VLOOKUP(FastCalendar!A3,data!$A$2:$B$600,2)) -> #REF! | J3: =if(FastCalendar!C3="","",FastCalendar!C3+FastCalendar!D3) -> #REF! | K3: =if(FastCalendar!C3="","",FastCalendar!C3+FastCalendar!E3) -> #REF!
H4: =if(FastCalendar!A4="","",VLOOKUP(FastCalendar!A4,data!$A$2:$B$600,2)) -> #REF! | J4: =if(FastCalendar!C4="","",FastCalendar!C4+FastCalendar!D4) -> #REF! | K4: =if(FastCalendar!C4="","",FastCalendar!C4+FastCalendar!E4) -> #REF!
H5: =if(FastCalendar!A5="","",VLOOKUP(FastCalendar!A5,data!$A$2:$B$600,2)) -> #REF! | J5: =if(FastCalendar!C5="","",FastCalendar!C5+FastCalendar!D5) -> #REF! | K5: =if(FastCalendar!C5="","",FastCalendar!C5+FastCalendar!E5) -> #REF!
H6: =if(FastCalendar!A6="","",VLOOKUP(FastCalendar!A6,data!$A$2:$B$600,2)) -> #REF! | J6: =if(FastCalendar!C6="","",FastCalendar!C6+FastCalendar!D6) -> #REF! | K6: =if(FastCalendar!C6="","",FastCalendar!C6+FastCalendar!E6) -> #REF!
H7: =if(FastCalendar!A7="","",VLOOKUP(FastCalendar!A7,data!$A$2:$B$600,2)) -> #REF! | J7: =if(FastCalendar!C7="","",FastCalendar!C7+FastCalendar!D7) -> #REF! | K7: =if(FastCalendar!C7="","",FastCalendar!C7+FastCalendar!E7) -> #REF!
H8: =if(FastCalendar!A8="","",VLOOKUP(FastCalendar!A8,data!$A$2:$B$600,2)) -> #REF! | J8: =if(FastCalendar!C8="","",FastCalendar!C8+FastCalendar!D8) -> #REF! | K8: =if(FastCalendar!C8="","",FastCalendar!C8+FastCalendar!E8) -> #REF!
H9: =if(FastCalendar!A9="","",VLOOKUP(FastCalendar!A9,data!$A$2:$B$600,2)) -> #REF! | J9: =if(FastCalendar!C9="","",FastCalendar!C9+FastCalendar!D9) -> #REF! | K9: =if(FastCalendar!C9="","",FastCalendar!C9+FastCalendar!E9) -> #REF!
H10: =if(FastCalendar!A10="","",VLOOKUP(FastCalendar!A10,data!$A$2:$B$600,2)) -> #REF! | J10: =if(FastCalendar!C10="","",FastCalendar!C10+FastCalendar!D10) -> #REF! | K10: =if(FastCalendar!C10="","",FastCalendar!C10+FastCalendar!E10) -> #REF!
H11: =if(FastCalendar!A11="","",VLOOKUP(FastCalendar!A11,data!$A$2:$B$600,2)) -> #REF! | J11: =if(FastCalendar!C11="","",FastCalendar!C11+FastCalendar!D11) -> #REF! | K11: =if(FastCalendar!C11="","",FastCalendar!C11+FastCalendar!E11) -> #REF!
H12: =if(FastCalendar!A12="","",VLOOKUP(FastCalendar!A12,data!$A$2:$B$600,2)) -> #REF! | J12: =if(FastCalendar!C12="","",FastCalendar!C12+FastCalendar!D12) -> #REF! | K12: =if(FastCalendar!C12="","",FastCalendar!C12+FastCalendar!E12) -> #REF!
H13: =if(FastCalendar!A13="","",VLOOKUP(FastCalendar!A13,data!$A$2:$B$600,2)) -> #REF! | J13: =if(FastCalendar!C13="","",FastCalendar!C13+FastCalendar!D13) -> #REF! | K13: =if(FastCalendar!C13="","",FastCalendar!C13+FastCalendar!E13) -> #REF!
H14: =if(FastCalendar!A14="","",VLOOKUP(FastCalendar!A14,data!$A$2:$B$600,2)) -> #REF! | J14: =if(FastCalendar!C14="","",FastCalendar!C14+FastCalendar!D14) -> #REF! | K14: =if(FastCalendar!C14="","",FastCalendar!C14+FastCalendar!E14) -> #REF!
H15: =if(FastCalendar!A15="","",VLOOKUP(FastCalendar!A15,data!$A$2:$B$600,2)) -> #REF! | J15: =if(FastCalendar!C15="","",FastCalendar!C15+FastCalendar!D15) -> #REF! | K15: =if(FastCalendar!C15="","",FastCalendar!C15+FastCalendar!E15) -> #REF!
... H600: =if(FastCalendar!A600="","",VLOOKUP(FastCalendar!A600,data!$A$2:$B$600,2)) -> #REF! | J600: =if(FastCalendar!C600="","",FastCalendar!C600+FastCalendar!D600) -> #REF! | K600: =if(FastCalendar!C600="","",FastCalendar!C600+FastCalendar!E600) -> #REF!

Sheet БАЗА
AA1: =IFERROR(VLOOKUP(TRUE,AA5:AB1003,2,0),"поставьте галочку") -> поставьте галочку | AD1: =IFERROR(VLOOKUP(TRUE,AA5:AC1003,3,0),"поставьте галочку") -> поставьте галочку | AF1: =IFERROR(VLOOKUP(TRUE,AA5:AD1003,4,0),"поставьте галочку") -> поставьте галочку
B2: =HYPERLINK("https://Shkolamm.ru/?utm_sourse=massagecrm","Shkolamm.ru") -> Shkolamm.ru
A3: ФИО | B3: Мобильный | C3: Дата рождения | D3: № абонемента | E3: Количество процедур в абонементе | F3: Стоимость абонемента | G3: Инстаграм | H3: Аллергии | I3: Противопоказания | J3: Рост | K3: Вес | L3: Середина бедра | M3: Самое широкое место бедра | N3: Ягодицы по вертелу | O3: Живот по верху подвздошных костей | P3: Талия в самом узком месте | Q3: По мечевидному отростку | R3: По подмышкам | S3: Середина плеча | T3: Рекомендованное количество воды в сутки | U3: Фактическое потребление воды | V3: Количество приемов пищи в день | W3: Физическая активность | X3: Род деятельности | Y3: Проблемные зоны | Z3: Желаемый результат | AA3: Увеличить | AB3: Фотографии | AE3: Рекомендации | AF3: Использует ли рекомендации | AG3: Комментарии
AB4: До | AC4: После 5-го | AD4: Конец курса
A5: Васикина Анна Дмитриевна | B5: 8921987654321 | C5: 31199 | D5: 44 | E5: 10 | F5: 10000 | G5: http://instagram.com/shkolammru | H5: кошка | I5: высокое давление | J5: 170 | K5: 60 | L5: 53 | M5: 44 | N5: 44 | O5: 44 | P5: 44 | Q5: 44 | R5: 50 | S5: 90 | T5: =K5*0.04 -> 2.4 | U5: 43497 | V5: 3 | W5: нет | X5: менеджер по продажам | Y5: ягодицы, живот | Z5: Похудеть в талии и ляшках | AA5: FALSE | AE5: Ходить в спортзал 2 раза в неделю, увеличить объем воды | AF5: Воду пить начала, спортзал прогуливает | AG5: может приодить по вечерам
AA7: FALSE
AA8: FALSE
AA9: FALSE
AA10: FALSE
AA11: FALSE
AA12: FALSE
AA13: FALSE
AA14: FALSE
AA15: FALSE
AA16: FALSE
AA17: FALSE
AA18: FALSE
... AA1003: FALSE

Sheet Лист10

Sheet База(моб)
A1: Васикина Анна Дмитриевна
A2: Мобильный | B2: =HYPERLINK("https://ctrlq.org/call/"&C2,"Набрать") -> Набрать | C2: =VLOOKUP($A$1,'БАЗА'!A:B,2,0) -> 8921987654321
A3: Дата рождения | C3: =VLOOKUP($A$1,'БАЗА'!A:C,3,0) -> 31199
A4: № абонемента | C4: =VLOOKUP($A$1,'БАЗА'!A:D,4,0) -> 44
A5: Количество процедур в абонементе | C5: =VLOOKUP($A$1,'БАЗА'!A:E,5,0) -> 10
A6: Стоимость абонемента | C6: =VLOOKUP($A$1,'БАЗА'!A:F,6,0) -> 10000
A7: Инстаграм | C7: =VLOOKUP($A$1,'БАЗА'!A:G,7,0) -> http://instagram.com/shkolammru
A8: Аллергии | C8: =VLOOKUP($A$1,'БАЗА'!A:H,8,0) -> кошка
A9: Противопоказания | C9: =VLOOKUP($A$1,'БАЗА'!A:I,9,0) -> высокое давление
A10: Рост | C10: =VLOOKUP($A$1,'БАЗА'!A:J,10,0) -> 170
A11: Вес | C11: =VLOOKUP($A$1,'БАЗА'!A:K,11,0) -> 60
A12: Середина бедра | C12: =VLOOKUP($A$1,'БАЗА'!A:L,12,0) -> 53
A13: Самое широкое место бедра | C13: =VLOOKUP($A$1,'БАЗА'!A:M,13,0) -> 44
A14: Ягодицы по вертелу | C14: =VLOOKUP($A$1,'БАЗА'!A:N,14,0) -> 44
A15: Живот по верху подвздошных костей | C15: =VLOOKUP($A$1,'БАЗА'!A:O,15,0) -> 44
A16: Талия в самом узком месте | C16: =VLOOKUP($A$1,'БАЗА'!A:P,16,0) -> 44
A17: По мечевидному отростку | C17: =VLOOKUP($A$1,'БАЗА'!A:Q,17,0) -> 44
A18: По подмышкам | C18: =VLOOKUP($A$1,'БАЗА'!A:R,18,0) -> 50
A19: Середина плеча | C19: =VLOOKUP($A$1,'БАЗА'!A:S,19,0) -> 90
A20: Рекомендованное количество воды в сутки | C20: =VLOOKUP($A$1,'БАЗА'!A:T,20,0) -> 2.4
A21: Фактическое потребление воды | C21: =VLOOKUP($A$1,'БАЗА'!A:U,21,0) -> 43497
A22: Количество приемов пищи в день | C22: =VLOOKUP($A$1,'БАЗА'!A:V,22,0) -> 3
A23: Физическая активность | C23: =VLOOKUP($A$1,'БАЗА'!A:W,23,0) -> нет
A24: Род деятельности | C24: =VLOOKUP($A$1,'БАЗА'!A:X,24,0) -> менеджер по продажам
A25: Проблемные зоны | C25: =VLOOKUP($A$1,'БАЗА'!A:Y,25,0) -> ягодицы, живот
A26: Желаемый результат | C26: =VLOOKUP($A$1,'БАЗА'!A:Z,26,0) -> Похудеть в талии и ляшках
A27: Фотографии | B27: До | C27: =VLOOKUP($A$1,'БАЗА'!A:AB,28,0)
B28: После 5-го | C28: =VLOOKUP($A$1,'БАЗА'!A:AC,29,0)
B29: Конец курса | C29: =VLOOKUP($A$1,'БАЗА'!A:AD,30,0)
A30: Рекомендации | C30: =VLOOKUP($A$1,'БАЗА'!A:AE,31,0) -> Ходить в спортзал 2 раза в неделю, увеличить объем воды
A31: Использует ли рекомендации | C31: =VLOOKUP($A$1,'БАЗА'!A:AF,32,0) -> Воду пить начала, спортзал прогуливает
A32: Комментарии | C32: =VLOOKUP($A$1,'БАЗА'!A:AG,33,0) -> может приодить по вечерам

Sheet Запись
A1: Запись | D1: ФИО | E1: {={"Мобильный";"";IFERROR(VLOOKUP($D$3:$D978,'БАЗА'!A5:B978,2,0),"")}} -> Мобильный | F1: {={"№ абонемента";"";IFERROR(VLOOKUP($D$3:$D978,'БАЗА'!A5:D978,4,0),"")}} -> № абонемента | G1: Осталось процедур | H1: Дней от последнего посещения | I1: Мастер | J1: Замеры | M1: Форма оплаты | N1: Процедура | O1: Отметка
A2: Дата | B2: Начало | C2: Конец | J2: Талия | K2: Рука | L2: Грудь
A3: 43848 | B3: 0.46875 | C3: =IF(B3="","",B3+1/24) -> 0.51041667 | D3: Васикина Анна Дмитриевна | E3: 8921987654321 | F3: 44 | G3: =IF(F3<>"",VLOOKUP(D3,'БАЗА'!$A$5:$E978,5,0)-COUNTIFS($D$2:$D2,D3,$F$2:$F2,F3,$O$2:$O2,"пришел"),"") -> 10 | H3: {=IF(A2="","",IFERROR(IF(TODAY()-VLOOKUP(D3,sort({D2:D$3,A2:A$3},ROW(D2:D$3),0),2,0)>=0,TODAY()-VLOOKUP(D3,sort({D2:D$3,A2:A$3},ROW(D2:D$3),0),2,0),"")))} -> 201 | O3: пришел
A4: 43852 | B4: 0.54166667 | C4: 0.57291667 | D4: Васикина Анна Дмитриевна | E4: 8921987654321 | F4: 44 | G4: =IF(F4<>"",VLOOKUP(D4,'БАЗА'!$A$5:$E978,5,0)-COUNTIFS($D$2:$D3,D4,$F$2:$F3,F4,$O$2:$O3,"пришел"),"") -> 9 | H4: =IF(A3="","",IFERROR(IF(TODAY()-VLOOKUP(D4,sort({D$3:D3,A$3:A3},ROW(D$3:D3),0),2,0)>=0,TODAY()-VLOOKUP(D4,sort({D$3:D3,A$3:A3},ROW(D$3:D3),0),2,0),""))) -> 201 | O4: пришел
A5: 43855 | B5: 0.6875 | C5: =IF(B5="","",B5+1/24) -> 0.72916667 | D5: Васикина Анна Дмитриевна | E5: 8921987654321 | F5: 44 | G5: =IF(F5<>"",VLOOKUP(D5,'БАЗА'!$A$5:$E978,5,0)-COUNTIFS($D$2:$D4,D5,$F$2:$F4,F5,$O$2:$O4,"пришел"),"") -> 8 | H5: =IF(A4="","",IFERROR(IF(TODAY()-VLOOKUP(D5,sort({D$3:D4,A$3:A4},ROW(D$3:D4),0),2,0)>=0,TODAY()-VLOOKUP(D5,sort({D$3:D4,A$3:A4},ROW(D$3:D4),0),2,0),""))) -> 197
G6: =IF(F6<>"",VLOOKUP(D6,'БАЗА'!$A$5:$E978,5,0)-COUNTIFS($D$2:$D5,D6,$F$2:$F5,F6,$O$2:$O5,"пришел"),"") | H6: =IF(A5="","",IFERROR(IF(TODAY()-VLOOKUP(D6,sort({D$3:D5,A$3:A5},ROW(D$3:D5),0),2,0)>=0,TODAY()-VLOOKUP(D6,sort({D$3:D5,A$3:A5},ROW(D$3:D5),0),2,0),"")))
G7: =IF(F7<>"",VLOOKUP(D7,'БАЗА'!$A$5:$E978,5,0)-COUNTIFS($D$2:$D6,D7,$F$2:$F6,F7,$O$2:$O6,"пришел"),"") | H7: =IF(A6="","",IFERROR(IF(TODAY()-VLOOKUP(D7,sort({D$3:D6,A$3:A6},ROW(D$3:D6),0),2,0)>=0,TODAY()-VLOOKUP(D7,sort({D$3:D6,A$3:A6},ROW(D$3:D6),0),2,0),"")))
G8: =IF(F8<>"",VLOOKUP(D8,'БАЗА'!$A$5:$E978,5,0)-COUNTIFS($D$2:$D7,D8,$F$2:$F7,F8,$O$2:$O7,"пришел"),"") | H8: =IF(A7="","",IFERROR(IF(TODAY()-VLOOKUP(D8,sort({D$3:D7,A$3:A7},ROW(D$3:D7),0),2,0)>=0,TODAY()-VLOOKUP(D8,sort({D$3:D7,A$3:A7},ROW(D$3:D7),0),2,0),"")))
C9: =IF(B9="","",B9+1/24) | G9: =IF(F9<>"",VLOOKUP(D9,'БАЗА'!$A$5:$E978,5,0)-COUNTIFS($D$2:$D8,D9,$F$2:$F8,F9,$O$2:$O8,"пришел"),"") | H9: =IF(A8="","",IFERROR(IF(TODAY()-VLOOKUP(D9,sort({D$3:D8,A$3:A8},ROW(D$3:D8),0),2,0)>=0,TODAY()-VLOOKUP(D9,sort({D$3:D8,A$3:A8},ROW(D$3:D8),0),2,0),"")))
C10: =IF(B10="","",B10+1/24) | G10: =IF(F10<>"",VLOOKUP(D10,'БАЗА'!$A$5:$E978,5,0)-COUNTIFS($D$2:$D9,D10,$F$2:$F9,F10,$O$2:$O9,"пришел"),"") | H10: =IF(A9="","",IFERROR(IF(TODAY()-VLOOKUP(D10,sort({D$3:D9,A$3:A9},ROW(D$3:D9),0),2,0)>=0,TODAY()-VLOOKUP(D10,sort({D$3:D9,A$3:A9},ROW(D$3:D9),0),2,0),"")))
C11: =IF(B11="","",B11+1/24) | G11: =IF(F11<>"",VLOOKUP(D11,'БАЗА'!$A$5:$E978,5,0)-COUNTIFS($D$2:$D10,D11,$F$2:$F10,F11,$O$2:$O10,"пришел"),"") | H11: =IF(A10="","",IFERROR(IF(TODAY()-VLOOKUP(D11,sort({D$3:D10,A$3:A10},ROW(D$3:D10),0),2,0)>=0,TODAY()-VLOOKUP(D11,sort({D$3:D10,A$3:A10},ROW(D$3:D10),0),2,0),"")))
C12: =IF(B12="","",B12+1/24) | G12: =IF(F12<>"",VLOOKUP(D12,'БАЗА'!$A$5:$E978,5,0)-COUNTIFS($D$2:$D11,D12,$F$2:$F11,F12,$O$2:$O11,"пришел"),"") | H12: =IF(A11="","",IFERROR(IF(TODAY()-VLOOKUP(D12,sort({D$3:D11,A$3:A11},ROW(D$3:D11),0),2,0)>=0,TODAY()-VLOOKUP(D12,sort({D$3:D11,A$3:A11},ROW(D$3:D11),0),2,0),"")))
C13: =IF(B13="","",B13+1/24) | G13: =IF(F13<>"",VLOOKUP(D13,'БАЗА'!$A$5:$E978,5,0)-COUNTIFS($D$2:$D12,D13,$F$2:$F12,F13,$O$2:$O12,"пришел"),"") | H13: =IF(A12="","",IFERROR(IF(TODAY()-VLOOKUP(D13,sort({D$3:D12,A$3:A12},ROW(D$3:D12),0),2,0)>=0,TODAY()-VLOOKUP(D13,sort({D$3:D12,A$3:A12},ROW(D$3:D12),0),2,0),"")))
C14: =IF(B14="","",B14+1/24) | G14: =IF(F14<>"",VLOOKUP(D14,'БАЗА'!$A$5:$E978,5,0)-COUNTIFS($D$2:$D13,D14,$F$2:$F13,F14,$O$2:$O13,"пришел"),"") | H14: =IF(A13="","",IFERROR(IF(TODAY()-VLOOKUP(D14,sort({D$3:D13,A$3:A13},ROW(D$3:D13),0),2,0)>=0,TODAY()-VLOOKUP(D14,sort({D$3:D13,A$3:A13},ROW(D$3:D13),0),2,0),"")))
C15: =IF(B15="","",B15+1/24) | G15: =IF(F15<>"",VLOOKUP(D15,'БАЗА'!$A$5:$E978,5,0)-COUNTIFS($D$2:$D14,D15,$F$2:$F14,F15,$O$2:$O14,"пришел"),"") | H15: =IF(A14="","",IFERROR(IF(TODAY()-VLOOKUP(D15,sort({D$3:D14,A$3:A14},ROW(D$3:D14),0),2,0)>=0,TODAY()-VLOOKUP(D15,sort({D$3:D14,A$3:A14},ROW(D$3:D14),0),2,0),"")))
C16: =IF(B16="","",B16+1/24) | G16: =IF(F16<>"",VLOOKUP(D16,'БАЗА'!$A$5:$E978,5,0)-COUNTIFS($D$2:$D15,D16,$F$2:$F15,F16,$O$2:$O15,"пришел"),"") | H16: =IF(A15="","",IFERROR(IF(TODAY()-VLOOKUP(D16,sort({D$3:D15,A$3:A15},ROW(D$3:D15),0),2,0)>=0,TODAY()-VLOOKUP(D16,sort({D$3:D15,A$3:A15},ROW(D$3:D15),0),2,0),"")))
C17: =IF(B17="","",B17+1/24) | G17: =IF(F17<>"",VLOOKUP(D17,'БАЗА'!$A$5:$E978,5,0)-COUNTIFS($D$2:$D16,D17,$F$2:$F16,F17,$O$2:$O16,"пришел"),"") | H17: =IF(A16="","",IFERROR(IF(TODAY()-VLOOKUP(D17,sort({D$3:D16,A$3:A16},ROW(D$3:D16),0),2,0)>=0,TODAY()-VLOOKUP(D17,sort({D$3:D16,A$3:A16},ROW(D$3:D16),0),2,0),"")))
C18: =IF(B18="","",B18+1/24) | G18: =IF(F18<>"",VLOOKUP(D18,'БАЗА'!$A$5:$E978,5,0)-COUNTIFS($D$2:$D17,D18,$F$2:$F17,F18,$O$2:$O17,"пришел"),"") | H18: =IF(A17="","",IFERROR(IF(TODAY()-VLOOKUP(D18,sort({D$3:D17,A$3:A17},ROW(D$3:D17),0),2,0)>=0,TODAY()-VLOOKUP(D18,sort({D$3:D17,A$3:A17},ROW(D$3:D17),0),2,0),"")))
C19: =IF(B19="","",B19+1/24) | G19: =IF(F19<>"",VLOOKUP(D19,'БАЗА'!$A$5:$E978,5,0)-COUNTIFS($D$2:$D18,D19,$F$2:$F18,F19,$O$2:$O18,"пришел"),"") | H19: =IF(A18="","",IFERROR(IF(TODAY()-VLOOKUP(D19,sort({D$3:D18,A$3:A18},ROW(D$3:D18),0),2,0)>=0,TODAY()-VLOOKUP(D19,sort({D$3:D18,A$3:A18},ROW(D$3:D18),0),2,0),"")))
C20: =IF(B20="","",B20+1/24) | G20: =IF(F20<>"",VLOOKUP(D20,'БАЗА'!$A$5:$E978,5,0)-COUNTIFS($D$2:$D19,D20,$F$2:$F19,F20,$O$2:$O19,"пришел"),"") | H20: =IF(A19="","",IFERROR(IF(TODAY()-VLOOKUP(D20,sort({D$3:D19,A$3:A19},ROW(D$3:D19),0),2,0)>=0,TODAY()-VLOOKUP(D20,sort({D$3:D19,A$3:A19},ROW(D$3:D19),0),2,0),"")))
C21: =IF(B21="","",B21+1/24) | G21: =IF(F21<>"",VLOOKUP(D21,'БАЗА'!$A$5:$E978,5,0)-COUNTIFS($D$2:$D20,D21,$F$2:$F20,F21,$O$2:$O20,"пришел"),"") | H21: =IF(A20="","",IFERROR(IF(TODAY()-VLOOKUP(D21,sort({D$3:D20,A$3:A20},ROW(D$3:D20),0),2,0)>=0,TODAY()-VLOOKUP(D21,sort({D$3:D20,A$3:A20},ROW(D$3:D20),0),2,0),"")))
C22: =IF(B22="","",B22+1/24) | G22: =IF(F22<>"",VLOOKUP(D22,'БАЗА'!$A$5:$E978,5,0)-COUNTIFS($D$2:$D21,D22,$F$2:$F21,F22,$O$2:$O21,"пришел"),"") | H22: =IF(A21="","",IFERROR(IF(TODAY()-VLOOKUP(D22,sort({D$3:D21,A$3:A21},ROW(D$3:D21),0),2,0)>=0,TODAY()-VLOOKUP(D22,sort({D$3:D21,A$3:A21},ROW(D$3:D21),0),2,0),"")))
C23: =IF(B23="","",B23+1/24) | G23: =IF(F23<>"",VLOOKUP(D23,'БАЗА'!$A$5:$E978,5,0)-COUNTIFS($D$2:$D22,D23,$F$2:$F22,F23,$O$2:$O22,"пришел"),"") | H23: =IF(A22="","",IFERROR(IF(TODAY()-VLOOKUP(D23,sort({D$3:D22,A$3:A22},ROW(D$3:D22),0),2,0)>=0,TODAY()-VLOOKUP(D23,sort({D$3:D22,A$3:A22},ROW(D$3:D22),0),2,0),"")))
C24: =IF(B24="","",B24+1/24) | G24: =IF(F24<>"",VLOOKUP(D24,'БАЗА'!$A$5:$E978,5,0)-COUNTIFS($D$2:$D23,D24,$F$2:$F23,F24,$O$2:$O23,"пришел"),"") | H24: =IF(A23="","",IFERROR(IF(TODAY()-VLOOKUP(D24,sort({D$3:D23,A$3:A23},ROW(D$3:D23),0),2,0)>=0,TODAY()-VLOOKUP(D24,sort({D$3:D23,A$3:A23},ROW(D$3:D23),0),2,0),"")))
C25: =IF(B25="","",B25+1/24) | G25: =IF(F25<>"",VLOOKUP(D25,'БАЗА'!$A$5:$E978,5,0)-COUNTIFS($D$2:$D24,D25,$F$2:$F24,F25,$O$2:$O24,"пришел"),"") | H25: =IF(A24="","",IFERROR(IF(TODAY()-VLOOKUP(D25,sort({D$3:D24,A$3:A24},ROW(D$3:D24),0),2,0)>=0,TODAY()-VLOOKUP(D25,sort({D$3:D24,A$3:A24},ROW(D$3:D24),0),2,0),"")))
C26: =IF(B26="","",B26+1/24) | G26: =IF(F26<>"",VLOOKUP(D26,'БАЗА'!$A$5:$E978,5,0)-COUNTIFS($D$2:$D25,D26,$F$2:$F25,F26,$O$2:$O25,"пришел"),"") | H26: =IF(A25="","",IFERROR(IF(TODAY()-VLOOKUP(D26,sort({D$3:D25,A$3:A25},ROW(D$3:D25),0),2,0)>=0,TODAY()-VLOOKUP(D26,sort({D$3:D25,A$3:A25},ROW(D$3:D25),0),2,0),"")))
C27: =IF(B27="","",B27+1/24) | G27: =IF(F27<>"",VLOOKUP(D27,'БАЗА'!$A$5:$E978,5,0)-COUNTIFS($D$2:$D26,D27,$F$2:$F26,F27,$O$2:$O26,"пришел"),"") | H27: =IF(A26="","",IFERROR(IF(TODAY()-VLOOKUP(D27,sort({D$3:D26,A$3:A26},ROW(D$3:D26),0),2,0)>=0,TODAY()-VLOOKUP(D27,sort({D$3:D26,A$3:A26},ROW(D$3:D26),0),2,0),"")))
C28: =IF(B28="","",B28+1/24) | G28: =IF(F28<>"",VLOOKUP(D28,'БАЗА'!$A$5:$E978,5,0)-COUNTIFS($D$2:$D27,D28,$F$2:$F27,F28,$O$2:$O27,"пришел"),"") | H28: =IF(A27="","",IFERROR(IF(TODAY()-VLOOKUP(D28,sort({D$3:D27,A$3:A27},ROW(D$3:D27),0),2,0)>=0,TODAY()-VLOOKUP(D28,sort({D$3:D27,A$3:A27},ROW(D$3:D27),0),2,0),"")))
C29: =IF(B29="","",B29+1/24) | G29: =IF(F29<>"",VLOOKUP(D29,'БАЗА'!$A$5:$E978,5,0)-COUNTIFS($D$2:$D28,D29,$F$2:$F28,F29,$O$2:$O28,"пришел"),"") | H29: =IF(A28="","",IFERROR(IF(TODAY()-VLOOKUP(D29,sort({D$3:D28,A$3:A28},ROW(D$3:D28),0),2,0)>=0,TODAY()-VLOOKUP(D29,sort({D$3:D28,A$3:A28},ROW(D$3:D28),0),2,0),"")))
C30: =IF(B30="","",B30+1/24) | G30: =IF(F30<>"",VLOOKUP(D30,'БАЗА'!$A$5:$E978,5,0)-COUNTIFS($D$2:$D29,D30,$F$2:$F29,F30,$O$2:$O29,"пришел"),"") | H30: =IF(A29="","",IFERROR(IF(TODAY()-VLOOKUP(D30,sort({D$3:D29,A$3:A29},ROW(D$3:D29),0),2,0)>=0,TODAY()-VLOOKUP(D30,sort({D$3:D29,A$3:A29},ROW(D$3:D29),0),2,0),"")))
C31: =IF(B31="","",B31+1/24) | G31: =IF(F31<>"",VLOOKUP(D31,'БАЗА'!$A$5:$E978,5,0)-COUNTIFS($D$2:$D30,D31,$F$2:$F30,F31,$O$2:$O30,"пришел"),"") | H31: =IF(A30="","",IFERROR(IF(TODAY()-VLOOKUP(D31,sort({D$3:D30,A$3:A30},ROW(D$3:D30),0),2,0)>=0,TODAY()-VLOOKUP(D31,sort({D$3:D30,A$3:A30},ROW(D$3:D30),0),2,0),"")))
C32: =IF(B32="","",B32+1/24) | G32: =IF(F32<>"",VLOOKUP(D32,'БАЗА'!$A$5:$E978,5,0)-COUNTIFS($D$2:$D31,D32,$F$2:$F31,F32,$O$2:$O31,"пришел"),"") | H32: =IF(A31="","",IFERROR(IF(TODAY()-VLOOKUP(D32,sort({D$3:D31,A$3:A31},ROW(D$3:D31),0),2,0)>=0,TODAY()-VLOOKUP(D32,sort({D$3:D31,A$3:A31},ROW(D$3:D31),0),2,0),"")))
C33: =IF(B33="","",B33+1/24) | G33: =IF(F33<>"",VLOOKUP(D33,'БАЗА'!$A$5:$E978,5,0)-COUNTIFS($D$2:$D32,D33,$F$2:$F32,F33,$O$2:$O32,"пришел"),"") | H33: =IF(A32="","",IFERROR(IF(TODAY()-VLOOKUP(D33,sort({D$3:D32,A$3:A32},ROW(D$3:D32),0),2,0)>=0,TODAY()-VLOOKUP(D33,sort({D$3:D32,A$3:A32},ROW(D$3:D32),0),2,0),"")))
C34: =IF(B34="","",B34+1/24) | G34: =IF(F34<>"",VLOOKUP(D34,'БАЗА'!$A$5:$E978,5,0)-COUNTIFS($D$2:$D33,D34,$F$2:$F33,F34,$O$2:$O33,"пришел"),"") | H34: =IF(A33="","",IFERROR(IF(TODAY()-VLOOKUP(D34,sort({D$3:D33,A$3:A33},ROW(D$3:D33),0),2,0)>=0,TODAY()-VLOOKUP(D34,sort({D$3:D33,A$3:A33},ROW(D$3:D33),0),2,0),"")))
C35: =IF(B35="","",B35+1/24) | G35: =IF(F35<>"",VLOOKUP(D35,'БАЗА'!$A$5:$E978,5,0)-COUNTIFS($D$2:$D34,D35,$F$2:$F34,F35,$O$2:$O34,"пришел"),"") | H35: =IF(A34="","",IFERROR(IF(TODAY()-VLOOKUP(D35,sort({D$3:D34,A$3:A34},ROW(D$3:D34),0),2,0)>=0,TODAY()-VLOOKUP(D35,sort({D$3:D34,A$3:A34},ROW(D$3:D34),0),2,0),"")))
C36: =IF(B36="","",B36+1/24) | G36: =IF(F36<>"",VLOOKUP(D36,'БАЗА'!$A$5:$E978,5,0)-COUNTIFS($D$2:$D35,D36,$F$2:$F35,F36,$O$2:$O35,"пришел"),"") | H36: =IF(A35="","",IFERROR(IF(TODAY()-VLOOKUP(D36,sort({D$3:D35,A$3:A35},ROW(D$3:D35),0),2,0)>=0,TODAY()-VLOOKUP(D36,sort({D$3:D35,A$3:A35},ROW(D$3:D35),0),2,0),"")))
C37: =IF(B37="","",B37+1/24) | G37: =IF(F37<>"",VLOOKUP(D37,'БАЗА'!$A$5:$E978,5,0)-COUNTIFS($D$2:$D36,D37,$F$2:$F36,F37,$O$2:$O36,"пришел"),"") | H37: =IF(A36="","",IFERROR(IF(TODAY()-VLOOKUP(D37,sort({D$3:D36,A$3:A36},ROW(D$3:D36),0),2,0)>=0,TODAY()-VLOOKUP(D37,sort({D$3:D36,A$3:A36},ROW(D$3:D36),0),2,0),"")))
C38: =IF(B38="","",B38+1/24) | G38: =IF(F38<>"",VLOOKUP(D38,'БАЗА'!$A$5:$E978,5,0)-COUNTIFS($D$2:$D37,D38,$F$2:$F37,F38,$O$2:$O37,"пришел"),"") | H38: =IF(A37="","",IFERROR(IF(TODAY()-VLOOKUP(D38,sort({D$3:D37,A$3:A37},ROW(D$3:D37),0),2,0)>=0,TODAY()-VLOOKUP(D38,sort({D$3:D37,A$3:A37},ROW(D$3:D37),0),2,0),"")))
C39: =IF(B39="","",B39+1/24) | G39: =IF(F39<>"",VLOOKUP(D39,'БАЗА'!$A$5:$E978,5,0)-COUNTIFS($D$2:$D38,D39,$F$2:$F38,F39,$O$2:$O38,"пришел"),"") | H39: =IF(A38="","",IFERROR(IF(TODAY()-VLOOKUP(D39,sort({D$3:D38,A$3:A38},ROW(D$3:D38),0),2,0)>=0,TODAY()-VLOOKUP(D39,sort({D$3:D38,A$3:A38},ROW(D$3:D38),0),2,0),"")))
C40: =IF(B40="","",B40+1/24) | G40: =IF(F40<>"",VLOOKUP(D40,'БАЗА'!$A$5:$E978,5,0)-COUNTIFS($D$2:$D39,D40,$F$2:$F39,F40,$O$2:$O39,"пришел"),"") | H40: =IF(A39="","",IFERROR(IF(TODAY()-VLOOKUP(D40,sort({D$3:D39,A$3:A39},ROW(D$3:D39),0),2,0)>=0,TODAY()-VLOOKUP(D40,sort({D$3:D39,A$3:A39},ROW(D$3:D39),0),2,0),"")))
...

Sheet Схема

Sheet Справка
A1: Время | B1: Мастер | C1: Процедуры | D1: Отметка | E1: Форма оплаты
A2: 0.45833333
A3: 0.46875 | B3: петров | C3: антицеллюлитный | D3: пришел | E3: нал
A4: 0.47916667 | B4: федоров | C4: лимфодренажный | D4: не пришел | E4: безнал
A5: 0.48958333 | B5: иванов | C5: классический | D5: отмена
A6: 0.5
A7: 0.51041667
A8: 0.52083333
A9: 0.53125
A10: 0.54166667
A11: 0.55208333
A12: 0.5625
A13: 0.57291667
A14: 0.58333333
A15: 0.59375
A16: 0.60416667
A17: 0.61458333
... A42: 0.875
