Workbook

Sheet data
A1: Calendar | B1: id | C1: nb | D1: 2 | F1: =COUNTA(FastCalendar!B1:FastCalendar!B600) -> 1 | I1: =COUNTA(FastCalendar!A1:FastCalendar!A600) -> 1 | J1: =COUNTIF(F2:F600,"ok")+2 -> 3 | K1: =count(FastCalendar!C2:FastCalendar!C600)+1 -> 1
A2: Запись клиентов | B2: fg7l0us2s9djrbecc1kagmbk4c@group.calendar.google.com | F2: ok | H2: =if(FastCalendar!A2="","",VLOOKUP(FastCalendar!A2,data!$A$2:$B$600,2)) -> #REF! | J2: =if(FastCalendar!C2="","",FastCalendar!C2+FastCalendar!D2) -> #REF! | K2: =if(FastCalendar!C2="","",FastCalendar!C2+FastCalendar!E2) -> #REF!
A3: kanat81adilbekov@gmail.com | B3: kanat81adilbekov@gmail.com | H3: =if(FastCalendar!A3="","",VLOOKUP(FastCalendar!A3,data!$A$2:$B$600,2)) -> #REF! | J3: =if(FastCalendar!C3="","",FastCalendar!C3+FastCalendar!D3) -> #REF! | K3: =if(FastCalendar!C3="","",FastCalendar!C3+FastCalendar!E3) -> #REF!
H4: =if(FastCalendar!A4="","",VLOOKUP(FastCalendar!A4,data!$A$2:$B$600,2)) -> #REF! | J4: =if(FastCalendar!C4="","",FastCalendar!C4+FastCalendar!D4) -> #REF! | K4: =if(FastCalendar!C4="","",FastCalendar!C4+FastCalendar!E4) -> #REF!
H5: =if(FastCalendar!A5="","",VLOOKUP(FastCalendar!A5,data!$A$2:$B$600,2)) -> #REF! | J5: =if(FastCalendar!C5="","",FastCalendar!C5+FastCalendar!D5) -> #REF! | K5: =if(FastCalendar!C5="","",FastCalendar!C5+FastCalendar!E5) -> #REF!
H6: =if(FastCalendar!A6="","",VLOOKUP(FastCalendar!A6,data!$A$2:$B$600,2)) -> #REF! | J6: =if(FastCalendar!C6="","",FastCalendar!C6+FastCalendar!D6) -> #REF! | K6: =if(FastCalendar!C6="","",FastCalendar!C6+FastCalendar!E6) -> #REF!
H7: =if(FastCalendar!A7="","",VLOOKUP(FastCalendar!A7,data!$A$2:$B$600,2)) -> #REF! | J7: =if(FastCalendar!C7="","",FastCalendar!C7+FastCalendar!D7) -> #REF! | K7: =if(FastCalendar!C7="","",FastCalendar!C7+FastCalendar!E7) -> #REF!
H8: =if(FastCalendar!A8="","",VLOOKUP(FastCalendar!A8,data!$A$2:$B$600,2)) -> #REF! | J8: =if(FastCalendar!C8="","",FastCalendar!C8+FastCalendar!D8) -> #REF! | K8: =if(FastCalendar!C8="","",FastCalendar!C8+FastCalendar!E8) -> #REF!
H9: =if(FastCalendar!A9="","",VLOOKUP(FastCalendar!A9,data!$A$2:$B$600,2)) -> #REF! | J9: =if(FastCalendar!C9="","",FastCalendar!C9+FastCalendar!D9) -> #REF! | K9: =if(FastCalendar!C9="","",FastCalendar!C9+FastCalendar!E9) -> #REF!
H10: =if(FastCalendar!A10="","",VLOOKUP(FastCalendar!A10,data!$A$2:$B$600,2)) -> #REF! | J10: =if(FastCalendar!C10="","",FastCalendar!C10+FastCalendar!D10) -> #REF! | K10: =if(FastCalendar!C10="","",FastCalendar!C10+FastCalendar!E10) -> #REF!
H11: =if(FastCalendar!A11="","",VLOOKUP(FastCalendar!A11,data!$A$2:$B$600,2)) -> #REF! | J11: =if(FastCalendar!C11="","",FastCalendar!C11+FastCalendar!D11) -> #REF! | K11: =if(FastCalendar!C11="","",FastCalendar!C11+FastCalendar!E11) -> #REF!
H12: =if(FastCalendar!A12="","",VLOOKUP(FastCalendar!A12,data!$A$2:$B$600,2)) -> #REF! | J12: =if(FastCalendar!C12="","",FastCalendar!C12+FastCalendar!D12) -> #REF! | K12: =if(FastCalendar!C12="","",FastCalendar!C12+FastCalendar!E12) -> #REF!
H13: =if(FastCalendar!A13="","",VLOOKUP(FastCalendar!A13,data!$A$2:$B$600,2)) -> #REF! | J13: =if(FastCalendar!C13="","",FastCalendar!C13+FastCalendar!D13) -> #REF! | K13: =if(FastCalendar!C13="","",FastCalendar!C13+FastCalendar!E13) -> #REF!
H14: =if(FastCalendar!A14="","",VLOOKUP(FastCalendar!A14,data!$A$2:$B$600,2)) -> #REF! | J14: =if(FastCalendar!C14="","",FastCalendar!C14+FastCalendar!D14) -> #REF! | K14: =if(FastCalendar!C14="","",FastCalendar!C14+FastCalendar!E14) -> #REF!
H15: =if(FastCalendar!A15="","",VLOOKUP(FastCalendar!A15,data!$A$2:$B$600,2)) -> #REF! | J15: =if(FastCalendar!C15="","",FastCalendar!C15+FastCalendar!D15) -> #REF! | K15: =if(FastCalendar!C15="","",FastCalendar!C15+FastCalendar!E15) -> #REF!
... H600: =if(FastCalendar!A600="","",VLOOKUP(FastCalendar!A600,data!$A$2:$B$600,2)) -> #REF! | J600: =if(FastCalendar!C600="","",FastCalendar!C600+FastCalendar!D600) -> #REF! | K600: =if(FastCalendar!C600="","",FastCalendar!C600+FastCalendar!E600) -> #REF!

Sheet БАЗА
AA1: =IFERROR(VLOOKUP(TRUE,AA5:AB1003,2,0),"поставьте галочку") -> поставьте галочку | AD1: =IFERROR(VLOOKUP(TRUE,AA5:AC1003,3,0),"поставьте галочку") -> поставьте галочку | AF1: =IFERROR(VLOOKUP(TRUE,AA5:AD1003,4,0),"поставьте галочку") -> поставьте галочку
B2: =HYPERLINK("https://Shkolamm.ru/?utm_sourse=massagecrm","Shkolamm.ru") -> Shkolamm.ru
A3: ФИО | B3: Мобильный | C3: Дата рождения | D3: № абонемента | E3: Количество процедур в абонементе | F3: Стоимость абонемента | G3: Инстаграм | H3: Аллергии | I3: Противопоказания | J3: Рост | K3: Вес | L3: Середина бедра | M3: Самое широкое место бедра | N3: Ягодицы по вертелу | O3: Живот по верху подвздошных костей | P3: Талия в самом узком месте | Q3: По мечевидному отростку | R3: По подмышкам | S3: Середина плеча | T3: Рекомендованное количество воды в сутки | U3: Фактическое потребление воды | V3: Количество приемов пищи в день | W3: Физическая активность | X3: Род деятельности | Y3: Проблемные зоны | Z3: Желаемый результат | AA3: Увеличить | AB3: Фотографии | AE3: Рекомендации | AF3: Использует ли рекомендации | AG3: Комментарии
AB4: До | AC4: После 5-го | AD4: Конец курса
A5: Васикина Анна Дмитриевна | B5: 8921987654321 | C5: 31199 | D5: 44 | E5: 10 | F5: 10000 | G5: http://instagram.com/shkolammru | H5: кошка | I5: высокое давление | J5: 170 | K5: 60 | L5: 53 | M5: 44 | N5: 44 | O5: 44 | P5: 44 | Q5: 44 | R5: 50 | S5: 90 | T5: =K5*0.04 -> 2.4 | U5: 43497 | V5: 3 | W5: нет | X5: менеджер по продажам | Y5: ягодицы, живот | Z5: Похудеть в талии и ляшках | AA5: FALSE | AE5: Ходить в спортзал 2 раза в неделю, увеличить объем воды | AF5: Воду пить начала, спортзал прогуливает | AG5: может приодить по вечерам
AA7: FALSE
AA8: FALSE
AA9: FALSE
AA10: FALSE
AA11: FALSE
AA12: FALSE
AA13: FALSE
AA14: FALSE
AA15: FALSE
AA16: FALSE
AA17: FALSE
AA18: FALSE
... AA1003: FALSE

Sheet Лист10

Sheet База(моб)
A1: Васикина Анна Дмитриевна
A2: Мобильный | B2: =HYPERLINK("https://ctrlq.org/call/"&C2,"Набрать") -> Набрать | C2: =VLOOKUP($A$1,'БАЗА'!A:B,2,0) -> 8921987654321
A3: Дата рождения | C3: =VLOOKUP($A$1,'БАЗА'!A:C,3,0) -> 31199
A4: № абонемента | C4: =VLOOKUP($A$1,'БАЗА'!A:D,4,0) -> 44
A5: Количество процедур в абонементе | C5: =VLOOKUP($A$1,'БАЗА'!A:E,5,0) -> 10
A6: Стоимость абонемента | C6: =VLOOKUP($A$1,'БАЗА'!A:F,6,0) -> 10000
A7: Инстаграм | C7: =VLOOKUP($A$1,'БАЗА'!A:G,7,0) -> http://instagram.com/shkolammru
A8: Аллергии | C8: =VLOOKUP($A$1,'БАЗА'!A:H,8,0) -> кошка
A9: Противопоказания | C9: =VLOOKUP($A$1,'БАЗА'!A:I,9,0) -> высокое давление
A10: Рост | C10: =VLOOKUP($A$1,'БАЗА'!A:J,10,0) -> 170
A11: Вес | C11: =VLOOKUP($A$1,'БАЗА'!A:K,11,0) -> 60
A12: Середина бедра | C12: =VLOOKUP($A$1,'БАЗА'!A:L,12,0) -> 53
A13: Самое широкое место бедра | C13: =VLOOKUP($A$1,'БАЗА'!A:M,13,0) -> 44
A14: Ягодицы по вертелу | C14: =VLOOKUP($A$1,'БАЗА'!A:N,14,0) -> 44
A15: Живот по верху подвздошных костей | C15: =VLOOKUP($A$1,'БАЗА'!A:O,15,0) -> 44
A16: Талия в самом узком месте | C16: =VLOOKUP($A$1,'БАЗА'!A:P,16,0) -> 44
A17: По мечевидному отростку | C17: =VLOOKUP($A$1,'БАЗА'!A:Q,17,0) -> 44
A18: По подмышкам | C18: =VLOOKUP($A$1,'БАЗА'!A:R,18,0) -> 50
A19: Середина плеча | C19: =VLOOKUP($A$1,'БАЗА'!A:S,19,0) -> 90
A20: Рекомендованное количество воды в сутки | C20: =VLOOKUP($A$1,'БАЗА'!A:T,20,0) -> 2.4
A21: Фактическое потребление воды | C21: =VLOOKUP($A$1,'БАЗА'!A:U,21,0) -> 43497
A22: Количество приемов пищи в день | C22: =VLOOKUP($A$1,'БАЗА'!A:V,22,0) -> 3
A23: Физическая активность | C23: =VLOOKUP($A$1,'БАЗА'!A:W,23,0) -> нет
A24: Род деятельности | C24: =VLOOKUP($A$1,'БАЗА'!A:X,24,0) -> менеджер по продажам
A25: Проблемные зоны | C25: =VLOOKUP($A$1,'БАЗА'!A:Y,25,0) -> ягодицы, живот
A26: Желаемый результат | C26: =VLOOKUP($A$1,'БАЗА'!A:Z,26,0) -> Похудеть в талии и ляшках
A27: Фотографии | B27: До | C27: =VLOOKUP($A$1,'БАЗА'!A:AB,28,0)
B28: После 5-го | C28: =VLOOKUP($A$1,'БАЗА'!A:AC,29,0)
B29: Конец курса | C29: =VLOOKUP($A$1,'БАЗА'!A:AD,30,0)
A30: Рекомендации | C30: =VLOOKUP($A$1,'БАЗА'!A:AE,31,0) -> Ходить в спортзал 2 раза в неделю, увеличить объем воды
A31: Использует ли рекомендации | C31: =VLOOKUP($A$1,'БАЗА'!A:AF,32,0) -> Воду пить начала, спортзал прогуливает
A32: Комментарии | C32: =VLOOKUP($A$1,'БАЗА'!A:AG,33,0) -> может приодить по вечерам

Sheet Запись
A1: Запись | D1: ФИО | E1: {={"Мобильный";"";IFERROR(VLOOKUP($D$3:$D978,'БАЗА'!A5:B978,2,0),"")}} -> Мобильный | F1: {={"№ абонемента";"";IFERROR(VLOOKUP($D$3:$D978,'БАЗА'!A5:D978,4,0),"")}} -> № абонемента | G1: Осталось процедур | H1: Дней от последнего посещения | I1: Мастер | J1: Замеры | M1: Форма оплаты | N1: Процедура | O1: Отметка
A2: Дата | B2: Начало | C2: Конец | J2: Талия | K2: Рука | L2: Грудь
A3: 43848 | B3: 0.46875 | C3: =IF(B3="","",B3+1/24) -> 0.51041667 | D3: Васикина Анна Дмитриевна | E3: 8921987654321 | F3: 44 | G3: =IF(F3<>"",VLOOKUP(D3,'БАЗА'!$A$5:$E978,5,0)-COUNTIFS($D$2:$D2,D3,$F$2:$F2,F3,$O$2:$O2,"пришел"),"") -> 10 | H3: {=IF(A2="","",IFERROR(IF(TODAY()-VLOOKUP(D3,sort({D2:D$3,A2:A$3},ROW(D2:D$3),0),2,0)>=0,TODAY()-VLOOKUP(D3,sort({D2:D$3,A2:A$3},ROW(D2:D$3),0),2,0),"")))} -> 201 | O3: пришел
A4: 43852 | B4: 0.54166667 | C4: 0.57291667 | D4: Васикина Анна Дмитриевна | E4: 8921987654321 | F4: 44 | G4: =IF(F4<>"",VLOOKUP(D4,'БАЗА'!$A$5:$E978,5,0)-COUNTIFS($D$2:$D3,D4,$F$2:$F3,F4,$O$2:$O3,"пришел"),"") -> 9 | H4: =IF(A3="","",IFERROR(IF(TODAY()-VLOOKUP(D4,sort({D$3:D3,A$3:A3},ROW(D$3:D3),0),2,0)>=0,TODAY()-VLOOKUP(D4,sort({D$3:D3,A$3:A3},ROW(D$3:D3),0),2,0),""))) -> 201 | O4: пришел
A5: 43855 | B5: 0.6875 | C5: =IF(B5="","",B5+1/24) -> 0.72916667 | D5: Васикина Анна Дмитриевна | E5: 8921987654321 | F5: 44 | G5: =IF(F5<>"",VLOOKUP(D5,'БАЗА'!$A$5:$E978,5,0)-COUNTIFS($D$2:$D4,D5,$F$2:$F4,F5,$O$2:$O4,"пришел"),"") -> 8 | H5: =IF(A4="","",IFERROR(IF(TODAY()-VLOOKUP(D5,sort({D$3:D4,A$3:A4},ROW(D$3:D4),0),2,0)>=0,TODAY()-VLOOKUP(D5,sort({D$3:D4,A$3:A4},ROW(D$3:D4),0),2,0),""))) -> 197
G6: =IF(F6<>"",VLOOKUP(D6,'БАЗА'!$A$5:$E978,5,0)-COUNTIFS($D$2:$D5,D6,$F$2:$F5,F6,$O$2:$O5,"пришел"),"") | H6: =IF(A5="","",IFERROR(IF(TODAY()-VLOOKUP(D6,sort({D$3:D5,A$3:A5},ROW(D$3:D5),0),2,0)>=0,TODAY()-VLOOKUP(D6,sort({D$3:D5,A$3:A5},ROW(D$3:D5),0),2,0),"")))
G7: =IF(F7<>"",VLOOKUP(D7,'БАЗА'!$A$5:$E978,5,0)-COUNTIFS($D$2:$D6,D7,$F$2:$F6,F7,$O$2:$O6,"пришел"),"") | H7: =IF(A6="","",IFERROR(IF(TODAY()-VLOOKUP(D7,sort({D$3:D6,A$3:A6},ROW(D$3:D6),0),2,0)>=0,TODAY()-VLOOKUP(D7,sort({D$3:D6,A$3:A6},ROW(D$3:D6),0),2,0),"")))
G8: =IF(F8<>"",VLOOKUP(D8,'БАЗА'!$A$5:$E978,5,0)-COUNTIFS($D$2:$D7,D8,$F$2:$F7,F8,$O$2:$O7,"пришел"),"") | H8: =IF(A7="","",IFERROR(IF(TODAY()-VLOOKUP(D8,sort({D$3:D7,A$3:A7},ROW(D$3:D7),0),2,0)>=0,TODAY()-VLOOKUP(D8,sort({D$3:D7,A$3:A7},ROW(D$3:D7),0),2,0),"")))
C9: =IF(B9="","",B9+1/24) | G9: =IF(F9<>"",VLOOKUP(D9,'БАЗА'!$A$5:$E978,5,0)-COUNTIFS($D$2:$D8,D9,$F$2:$F8,F9,$O$2:$O8,"пришел"),"") | H9: =IF(A8="","",IFERROR(IF(TODAY()-VLOOKUP(D9,sort({D$3:D8,A$3:A8},ROW(D$3:D8),0),2,0)>=0,TODAY()-VLOOKUP(D9,sort({D$3:D8,A$3:A8},ROW(D$3:D8),0),2,0),"")))
C10: =IF(B10="","",B10+1/24) | G10: =IF(F10<>"",VLOOKUP(D10,'БАЗА'!$A$5:$E978,5,0)-COUNTIFS($D$2:$D9,D10,$F$2:$F9,F10,$O$2:$O9,"пришел"),"") | H10: =IF(A9="","",IFERROR(IF(TODAY()-VLOOKUP(D10,sort({D$3:D9,A$3:A9},ROW(D$3:D9),0),2,0)>=0,TODAY()-VLOOKUP(D10,sort({D$3:D9,A$3:A9},ROW(D$3:D9),0),2,0),"")))
C11: =IF(B11="","",B11+1/24) | G11: =IF(F11<>"",VLOOKUP(D11,'БАЗА'!$A$5:$E978,5,0)-COUNTIFS($D$2:$D10,D11,$F$2:$F10,F11,$O$2:$O10,"пришел"),"") | H11: =IF(A10="","",IFERROR(IF(TODAY()-VLOOKUP(D11,sort({D$3:D10,A$3:A10},ROW(D$3:D10),0),2,0)>=0,TODAY()-VLOOKUP(D11,sort({D$3:D10,A$3:A10},ROW(D$3:D10),0),2,0),"")))
C12: =IF(B12="","",B12+1/24) | G12: =IF(F12<>"",VLOOKUP(D12,'БАЗА'!$A$5:$E978,5,0)-COUNTIFS($D$2:$D11,D12,$F$2:$F11,F12,$O$2:$O11,"пришел"),"") | H12: =IF(A11="","",IFERROR(IF(TODAY()-VLOOKUP(D12,sort({D$3:D11,A$3:A11},ROW(D$3:D11),0),2,0)>=0,TODAY()-VLOOKUP(D12,sort({D$3:D11,A$3:A11},ROW(D$3:D11),0),2,0),"")))
C13: =IF(B13="","",B13+1/24) | G13: =IF(F13<>"",VLOOKUP(D13,'БАЗА'!$A$5:$E978,5,0)-COUNTIFS($D$2:$D12,D13,$F$2:$F12,F13,$O$2:$O12,"пришел"),"") | H13: =IF(A12="","",IFERROR(IF(TODAY()-VLOOKUP(D13,sort({D$3:D12,A$3:A12},ROW(D$3:D12),0),2,0)>=0,TODAY()-VLOOKUP(D13,sort({D$3:D12,A$3:A12},ROW(D$3:D12),0),2,0),"")))
C14: =IF(B14="","",B14+1/24) | G14: =IF(F14<>"",VLOOKUP(D14,'БАЗА'!$A$5:$E978,5,0)-COUNTIFS($D$2:$D13,D14,$F$2:$F13,F14,$O$2:$O13,"пришел"),"") | H14: =IF(A13="","",IFERROR(IF(TODAY()-VLOOKUP(D14,sort({D$3:D13,A$3:A13},ROW(D$3:D13),0),2,0)>=0,TODAY()-VLOOKUP(D14,sort({D$3:D13,A$3:A13},ROW(D$3:D13),0),2,0),"")))
C15: =IF(B15="","",B15+1/24) | G15: =IF(F15<>"",VLOOKUP(D15,'БАЗА'!$A$5:$E978,5,0)-COUNTIFS($D$2:$D14,D15,$F$2:$F14,F15,$O$2:$O14,"пришел"),"") | H15: =IF(A14="","",IFERROR(IF(TODAY()-VLOOKUP(D15,sort({D$3:D14,A$3:A14},ROW(D$3:D14),0),2,0)>=0,TODAY()-VLOOKUP(D15,sort({D$3:D14,A$3:A14},ROW(D$3:D14),0),2,0),"")))
C16: =IF(B16="","",B16+1/24) | G16: =IF(F16<>"",VLOOKUP(D16,'БАЗА'!$A$5:$E978,5,0)-COUNTIFS($D$2:$D15,D16,$F$2:$F15,F16,$O$2:$O15,"пришел"),"") | H16: =IF(A15="","",IFERROR(IF(TODAY()-VLOOKUP(D16,sort({D$3:D15,A$3:A15},ROW(D$3:D15),0),2,0)>=0,TODAY()-VLOOKUP(D16,sort({D$3:D15,A$3:A15},ROW(D$3:D15),0),2,0),"")))
C17: =IF(B17="","",B17+1/24) | G17: =IF(F17<>"",VLOOKUP(D17,'БАЗА'!$A$5:$E978,5,0)-COUNTIFS($D$2:$D16,D17,$F$2:$F16,F17,$O$2:$O16,"пришел"),"") | H17: =IF(A16="","",IFERROR(IF(TODAY()-VLOOKUP(D17,sort({D$3:D16,A$3:A16},ROW(D$3:D16),0),2,0)>=0,TODAY()-VLOOKUP(D17,sort({D$3:D16,A$3:A16},ROW(D$3:D16),0),2,0),"")))
C18: =IF(B18="","",B18+1/24) | G18: =IF(F18<>"",VLOOKUP(D18,'БАЗА'!$A$5:$E978,5,0)-COUNTIFS($D$2:$D17,D18,$F$2:$F17,F18,$O$2:$O17,"пришел"),"") | H18: =IF(A17="","",IFERROR(IF(TODAY()-VLOOKUP(D18,sort({D$3:D17,A$3:A17},ROW(D$3:D17),0),2,0)>=0,TODAY()-VLOOKUP(D18,sort({D$3:D17,A$3:A17},ROW(D$3:D17),0),2,0),"")))
C19: =IF(B19="","",B19+1/24) | G19: =IF(F19<>"",VLOOKUP(D19,'БАЗА'!$A$5:$E978,5,0)-COUNTIFS($D$2:$D18,D19,$F$2:$F18,F19,$O$2:$O18,"пришел"),"") | H19: =IF(A18="","",IFERROR(IF(TODAY()-VLOOKUP(D19,sort({D$3:D18,A$3:A18},ROW(D$3:D18),0),2,0)>=0,TODAY()-VLOOKUP(D19,sort({D$3:D18,A$3:A18},ROW(D$3:D18),0),2,0),"")))
C20: =IF(B20="","",B20+1/24) | G20: =IF(F20<>"",VLOOKUP(D20,'БАЗА'!$A$5:$E978,5,0)-COUNTIFS($D$2:$D19,D20,$F$2:$F19,F20,$O$2:$O19,"пришел"),"") | H20: =IF(A19="","",IFERROR(IF(TODAY()-VLOOKUP(D20,sort({D$3:D19,A$3:A19},ROW(D$3:D19),0),2,0)>=0,TODAY()-VLOOKUP(D20,sort({D$3:D19,A$3:A19},ROW(D$3:D19),0),2,0),"")))
C21: =IF(B21="","",B21+1/24) | G21: =IF(F21<>"",VLOOKUP(D21,'БАЗА'!$A$5:$E978,5,0)-COUNTIFS($D$2:$D20,D21,$F$2:$F20,F21,$O$2:$O20,"пришел"),"") | H21: =IF(A20="","",IFERROR(IF(TODAY()-VLOOKUP(D21,sort({D$3:D20,A$3:A20},ROW(D$3:D20),0),2,0)>=0,TODAY()-VLOOKUP(D21,sort({D$3:D20,A$3:A20},ROW(D$3:D20),0),2,0),"")))
C22: =IF(B22="","",B22+1/24) | G22: =IF(F22<>"",VLOOKUP(D22,'БАЗА'!$A$5:$E978,5,0)-COUNTIFS($D$2:$D21,D22,$F$2:$F21,F22,$O$2:$O21,"пришел"),"") | H22: =IF(A21="","",IFERROR(IF(TODAY()-VLOOKUP(D22,sort({D$3:D21,A$3:A21},ROW(D$3:D21),0),2,0)>=0,TODAY()-VLOOKUP(D22,sort({D$3:D21,A$3:A21},ROW(D$3:D21),0),2,0),"")))
C23: =IF(B23="","",B23+1/24) | G23: =IF(F23<>"",VLOOKUP(D23,'БАЗА'!$A$5:$E978,5,0)-COUNTIFS($D$2:$D22,D23,$F$2:$F22,F23,$O$2:$O22,"пришел"),"") | H23: =IF(A22="","",IFERROR(IF(TODAY()-VLOOKUP(D23,sort({D$3:D22,A$3:A22},ROW(D$3:D22),0),2,0)>=0,TODAY()-VLOOKUP(D23,sort({D$3:D22,A$3:A22},ROW(D$3:D22),0),2,0),"")))
C24: =IF(B24="","",B24+1/24) | G24: =IF(F24<>"",VLOOKUP(D24,'БАЗА'!$A$5:$E978,5,0)-COUNTIFS($D$2:$D23,D24,$F$2:$F23,F24,$O$2:$O23,"пришел"),"") | H24: =IF(A23="","",IFERROR(IF(TODAY()-VLOOKUP(D24,sort({D$3:D23,A$3:A23},ROW(D$3:D23),0),2,0)>=0,TODAY()-VLOOKUP(D24,sort({D$3:D23,A$3:A23},ROW(D$3:D23),0),2,0),"")))
C25: =IF(B25="","",B25+1/24) | G25: =IF(F25<>"",VLOOKUP(D25,'БАЗА'!$A$5:$E978,5,0)-COUNTIFS($D$2:$D24,D25,$F$2:$F24,F25,$O$2:$O24,"пришел"),"") | H25: =IF(A24="","",IFERROR(IF(TODAY()-VLOOKUP(D25,sort({D$3:D24,A$3:A24},ROW(D$3:D24),0),2,0)>=0,TODAY()-VLOOKUP(D25,sort({D$3:D24,A$3:A24},ROW(D$3:D24),0),2,0),"")))
C26: =IF(B26="","",B26+1/24) | G26: =IF(F26<>"",VLOOKUP(D26,'БАЗА'!$A$5:$E978,5,0)-COUNTIFS($D$2:$D25,D26,$F$2:$F25,F26,$O$2:$O25,"пришел"),"") | H26: =IF(A25="","",IFERROR(IF(TODAY()-VLOOKUP(D26,sort({D$3:D25,A$3:A25},ROW(D$3:D25),0),2,0)>=0,TODAY()-VLOOKUP(D26,sort({D$3:D25,A$3:A25},ROW(D$3:D25),0),2,0),"")))
C27: =IF(B27="","",B27+1/24) | G27: =IF(F27<>"",VLOOKUP(D27,'БАЗА'!$A$5:$E978,5,0)-COUNTIFS($D$2:$D26,D27,$F$2:$F26,F27,$O$2:$O26,"пришел"),"") | H27: =IF(A26="","",IFERROR(IF(TODAY()-VLOOKUP(D27,sort({D$3:D26,A$3:A26},ROW(D$3:D26),0),2,0)>=0,TODAY()-VLOOKUP(D27,sort({D$3:D26,A$3:A26},ROW(D$3:D26),0),2,0),"")))
C28: =IF(B28="","",B28+1/24) | G28: =IF(F28<>"",VLOOKUP(D28,'БАЗА'!$A$5:$E978,5,0)-COUNTIFS($D$2:$D27,D28,$F$2:$F27,F28,$O$2:$O27,"пришел"),"") | H28: =IF(A27="","",IFERROR(IF(TODAY()-VLOOKUP(D28,sort({D$3:D27,A$3:A27},ROW(D$3:D27),0),2,0)>=0,TODAY()-VLOOKUP(D28,sort({D$3:D27,A$3:A27},ROW(D$3:D27),0),2,0),"")))
C29: =IF(B29="","",B29+1/24) | G29: =IF(F29<>"",VLOOKUP(D29,'БАЗА'!$A$5:$E978,5,0)-COUNTIFS($D$2:$D28,D29,$F$2:$F28,F29,$O$2:$O28,"пришел"),"") | H29: =IF(A28="","",IFERROR(IF(TODAY()-VLOOKUP(D29,sort({D$3:D28,A$3:A28},ROW(D$3:D28),0),2,0)>=0,TODAY()-VLOOKUP(D29,sort({D$3:D28,A$3:A28},ROW(D$3:D28),0),2,0),"")))
C30: =IF(B30="","",B30+1/24) | G30: =IF(F30<>"",VLOOKUP(D30,'БАЗА'!$A$5:$E978,5,0)-COUNTIFS($D$2:$D29,D30,$F$2:$F29,F30,$O$2:$O29,"пришел"),"") | H30: =IF(A29="","",IFERROR(IF(TODAY()-VLOOKUP(D30,sort({D$3:D29,A$3:A29},ROW(D$3:D29),0),2,0)>=0,TODAY()-VLOOKUP(D30,sort({D$3:D29,A$3:A29},ROW(D$3:D29),0),2,0),"")))
C31: =IF(B31="","",B31+1/24) | G31: =IF(F31<>"",VLOOKUP(D31,'БАЗА'!$A$5:$E978,5,0)-COUNTIFS($D$2:$D30,D31,$F$2:$F30,F31,$O$2:$O30,"пришел"),"") | H31: =IF(A30="","",IFERROR(IF(TODAY()-VLOOKUP(D31,sort({D$3:D30,A$3:A30},ROW(D$3:D30),0),2,0)>=0,TODAY()-VLOOKUP(D31,sort({D$3:D30,A$3:A30},ROW(D$3:D30),0),2,0),"")))
C32: =IF(B32="","",B32+1/24) | G32: =IF(F32<>"",VLOOKUP(D32,'БАЗА'!$A$5:$E978,5,0)-COUNTIFS($D$2:$D31,D32,$F$2:$F31,F32,$O$2:$O31,"пришел"),"") | H32: =IF(A31="","",IFERROR(IF(TODAY()-VLOOKUP(D32,sort({D$3:D31,A$3:A31},ROW(D$3:D31),0),2,0)>=0,TODAY()-VLOOKUP(D32,sort({D$3:D31,A$3:A31},ROW(D$3:D31),0),2,0),"")))
C33: =IF(B33="","",B33+1/24) | G33: =IF(F33<>"",VLOOKUP(D33,'БАЗА'!$A$5:$E978,5,0)-COUNTIFS($D$2:$D32,D33,$F$2:$F32,F33,$O$2:$O32,"пришел"),"") | H33: =IF(A32="","",IFERROR(IF(TODAY()-VLOOKUP(D33,sort({D$3:D32,A$3:A32},ROW(D$3:D32),0),2,0)>=0,TODAY()-VLOOKUP(D33,sort({D$3:D32,A$3:A32},ROW(D$3:D32),0),2,0),"")))
C34: =IF(B34="","",B34+1/24) | G34: =IF(F34<>"",VLOOKUP(D34,'БАЗА'!$A$5:$E978,5,0)-COUNTIFS($D$2:$D33,D34,$F$2:$F33,F34,$O$2:$O33,"пришел"),"") | H34: =IF(A33="","",IFERROR(IF(TODAY()-VLOOKUP(D34,sort({D$3:D33,A$3:A33},ROW(D$3:D33),0),2,0)>=0,TODAY()-VLOOKUP(D34,sort({D$3:D33,A$3:A33},ROW(D$3:D33),0),2,0),"")))
C35: =IF(B35="","",B35+1/24) | G35: =IF(F35<>"",VLOOKUP(D35,'БАЗА'!$A$5:$E978,5,0)-COUNTIFS($D$2:$D34,D35,$F$2:$F34,F35,$O$2:$O34,"пришел"),"") | H35: =IF(A34="","",IFERROR(IF(TODAY()-VLOOKUP(D35,sort({D$3:D34,A$3:A34},ROW(D$3:D34),0),2,0)>=0,TODAY()-VLOOKUP(D35,sort({D$3:D34,A$3:A34},ROW(D$3:D34),0),2,0),"")))
C36: =IF(B36="","",B36+1/24) | G36: =IF(F36<>"",VLOOKUP(D36,'БАЗА'!$A$5:$E978,5,0)-COUNTIFS($D$2:$D35,D36,$F$2:$F35,F36,$O$2:$O35,"пришел"),"") | H36: =IF(A35="","",IFERROR(IF(TODAY()-VLOOKUP(D36,sort({D$3:D35,A$3:A35},ROW(D$3:D35),0),2,0)>=0,TODAY()-VLOOKUP(D36,sort({D$3:D35,A$3:A35},ROW(D$3:D35),0),2,0),"")))
C37: =IF(B37="","",B37+1/24) | G37: =IF(F37<>"",VLOOKUP(D37,'БАЗА'!$A$5:$E978,5,0)-COUNTIFS($D$2:$D36,D37,$F$2:$F36,F37,$O$2:$O36,"пришел"),"") | H37: =IF(A36="","",IFERROR(IF(TODAY()-VLOOKUP(D37,sort({D$3:D36,A$3:A36},ROW(D$3:D36),0),2,0)>=0,TODAY()-VLOOKUP(D37,sort({D$3:D36,A$3:A36},ROW(D$3:D36),0),2,0),"")))
C38: =IF(B38="","",B38+1/24) | G38: =IF(F38<>"",VLOOKUP(D38,'БАЗА'!$A$5:$E978,5,0)-COUNTIFS($D$2:$D37,D38,$F$2:$F37,F38,$O$2:$O37,"пришел"),"") | H38: =IF(A37="","",IFERROR(IF(TODAY()-VLOOKUP(D38,sort({D$3:D37,A$3:A37},ROW(D$3:D37),0),2,0)>=0,TODAY()-VLOOKUP(D38,sort({D$3:D37,A$3:A37},ROW(D$3:D37),0),2,0),"")))
C39: =IF(B39="","",B39+1/24) | G39: =IF(F39<>"",VLOOKUP(D39,'БАЗА'!$A$5:$E978,5,0)-COUNTIFS($D$2:$D38,D39,$F$2:$F38,F39,$O$2:$O38,"пришел"),"") | H39: =IF(A38="","",IFERROR(IF(TODAY()-VLOOKUP(D39,sort({D$3:D38,A$3:A38},ROW(D$3:D38),0),2,0)>=0,TODAY()-VLOOKUP(D39,sort({D$3:D38,A$3:A38},ROW(D$3:D38),0),2,0),"")))
C40: =IF(B40="","",B40+1/24) | G40: =IF(F40<>"",VLOOKUP(D40,'БАЗА'!$A$5:$E978,5,0)-COUNTIFS($D$2:$D39,D40,$F$2:$F39,F40,$O$2:$O39,"пришел"),"") | H40: =IF(A39="","",IFERROR(IF(TODAY()-VLOOKUP(D40,sort({D$3:D39,A$3:A39},ROW(D$3:D39),0),2,0)>=0,TODAY()-VLOOKUP(D40,sort({D$3:D39,A$3:A39},ROW(D$3:D39),0),2,0),"")))
C41: =IF(B41="","",B41+1/24) | G41: =IF(F41<>"",VLOOKUP(D41,'БАЗА'!$A$5:$E978,5,0)-COUNTIFS($D$2:$D40,D41,$F$2:$F40,F41,$O$2:$O40,"пришел"),"") | H41: =IF(A40="","",IFERROR(IF(TODAY()-VLOOKUP(D41,sort({D$3:D40,A$3:A40},ROW(D$3:D40),0),2,0)>=0,TODAY()-VLOOKUP(D41,sort({D$3:D40,A$3:A40},ROW(D$3:D40),0),2,0),"")))
C42: =IF(B42="","",B42+1/24) | G42: =IF(F42<>"",VLOOKUP(D42,'БАЗА'!$A$5:$E978,5,0)-COUNTIFS($D$2:$D41,D42,$F$2:$F41,F42,$O$2:$O41,"пришел"),"") | H42: =IF(A41="","",IFERROR(IF(TODAY()-VLOOKUP(D42,sort({D$3:D41,A$3:A41},ROW(D$3:D41),0),2,0)>=0,TODAY()-VLOOKUP(D42,sort({D$3:D41,A$3:A41},ROW(D$3:D41),0),2,0),"")))
C43: =IF(B43="","",B43+1/24) | G43: =IF(F43<>"",VLOOKUP(D43,'БАЗА'!$A$5:$E978,5,0)-COUNTIFS($D$2:$D42,D43,$F$2:$F42,F43,$O$2:$O42,"пришел"),"") | H43: =IF(A42="","",IFERROR(IF(TODAY()-VLOOKUP(D43,sort({D$3:D42,A$3:A42},ROW(D$3:D42),0),2,0)>=0,TODAY()-VLOOKUP(D43,sort({D$3:D42,A$3:A42},ROW(D$3:D42),0),2,0),"")))
C44: =IF(B44="","",B44+1/24) | G44: =IF(F44<>"",VLOOKUP(D44,'БАЗА'!$A$5:$E978,5,0)-COUNTIFS($D$2:$D43,D44,$F$2:$F43,F44,$O$2:$O43,"пришел"),"") | H44: =IF(A43="","",IFERROR(IF(TODAY()-VLOOKUP(D44,sort({D$3:D43,A$3:A43},ROW(D$3:D43),0),2,0)>=0,TODAY()-VLOOKUP(D44,sort({D$3:D43,A$3:A43},ROW(D$3:D43),0),2,0),"")))
C45: =IF(B45="","",B45+1/24) | G45: =IF(F45<>"",VLOOKUP(D45,'БАЗА'!$A$5:$E978,5,0)-COUNTIFS($D$2:$D44,D45,$F$2:$F44,F45,$O$2:$O44,"пришел"),"") | H45: =IF(A44="","",IFERROR(IF(TODAY()-VLOOKUP(D45,sort({D$3:D44,A$3:A44},ROW(D$3:D44),0),2,0)>=0,TODAY()-VLOOKUP(D45,sort({D$3:D44,A$3:A44},ROW(D$3:D44),0),2,0),"")))
C46: =IF(B46="","",B46+1/24) | G46: =IF(F46<>"",VLOOKUP(D46,'БАЗА'!$A$5:$E978,5,0)-COUNTIFS($D$2:$D45,D46,$F$2:$F45,F46,$O$2:$O45,"пришел"),"") | H46: =IF(A45="","",IFERROR(IF(TODAY()-VLOOKUP(D46,sort({D$3:D45,A$3:A45},ROW(D$3:D45),0),2,0)>=0,TODAY()-VLOOKUP(D46,sort({D$3:D45,A$3:A45},ROW(D$3:D45),0),2,0),"")))
C47: =IF(B47="","",B47+1/24) | G47: =IF(F47<>"",VLOOKUP(D47,'БАЗА'!$A$5:$E978,5,0)-COUNTIFS($D$2:$D46,D47,$F$2:$F46,F47,$O$2:$O46,"пришел"),"") | H47: =IF(A46="","",IFERROR(IF(TODAY()-VLOOKUP(D47,sort({D$3:D46,A$3:A46},ROW(D$3:D46),0),2,0)>=0,TODAY()-VLOOKUP(D47,sort({D$3:D46,A$3:A46},ROW(D$3:D46),0),2,0),"")))
C48: =IF(B48="","",B48+1/24) | G48: =IF(F48<>"",VLOOKUP(D48,'БАЗА'!$A$5:$E978,5,0)-COUNTIFS($D$2:$D47,D48,$F$2:$F47,F48,$O$2:$O47,"пришел"),"") | H48: =IF(A47="","",IFERROR(IF(TODAY()-VLOOKUP(D48,sort({D$3:D47,A$3:A47},ROW(D$3:D47),0),2,0)>=0,TODAY()-VLOOKUP(D48,sort({D$3:D47,A$3:A47},ROW(D$3:D47),0),2,0),"")))
C49: =IF(B49="","",B49+1/24) | G49: =IF(F49<>"",VLOOKUP(D49,'БАЗА'!$A$5:$E978,5,0)-COUNTIFS($D$2:$D48,D49,$F$2:$F48,F49,$O$2:$O48,"пришел"),"") | H49: =IF(A48="","",IFERROR(IF(TODAY()-VLOOKUP(D49,sort({D$3:D48,A$3:A48},ROW(D$3:D48),0),2,0)>=0,TODAY()-VLOOKUP(D49,sort({D$3:D48,A$3:A48},ROW(D$3:D48),0),2,0),"")))
C50: =IF(B50="","",B50+1/24) | G50: =IF(F50<>"",VLOOKUP(D50,'БАЗА'!$A$5:$E978,5,0)-COUNTIFS($D$2:$D49,D50,$F$2:$F49,F50,$O$2:$O49,"пришел"),"") | H50: =IF(A49="","",IFERROR(IF(TODAY()-VLOOKUP(D50,sort({D$3:D49,A$3:A49},ROW(D$3:D49),0),2,0)>=0,TODAY()-VLOOKUP(D50,sort({D$3:D49,A$3:A49},ROW(D$3:D49),0),2,0),"")))
C51: =IF(B51="","",B51+1/24) | G51: =IF(F51<>"",VLOOKUP(D51,'БАЗА'!$A$5:$E978,5,0)-COUNTIFS($D$2:$D50,D51,$F$2:$F50,F51,$O$2:$O50,"пришел"),"") | H51: =IF(A50="","",IFERROR(IF(TODAY()-VLOOKUP(D51,sort({D$3:D50,A$3:A50},ROW(D$3:D50),0),2,0)>=0,TODAY()-VLOOKUP(D51,sort({D$3:D50,A$3:A50},ROW(D$3:D50),0),2,0),"")))
C52: =IF(B52="","",B52+1/24) | G52: =IF(F52<>"",VLOOKUP(D52,'БАЗА'!$A$5:$E978,5,0)-COUNTIFS($D$2:$D51,D52,$F$2:$F51,F52,$O$2:$O51,"пришел"),"") | H52: =IF(A51="","",IFERROR(IF(TODAY()-VLOOKUP(D52,sort({D$3:D51,A$3:A51},ROW(D$3:D51),0),2,0)>=0,TODAY()-VLOOKUP(D52,sort({D$3:D51,A$3:A51},ROW(D$3:D51),0),2,0),"")))
C53: =IF(B53="","",B53+1/24) | G53: =IF(F53<>"",VLOOKUP(D53,'БАЗА'!$A$5:$E978,5,0)-COUNTIFS($D$2:$D52,D53,$F$2:$F52,F53,$O$2:$O52,"пришел"),"") | H53: =IF(A52="","",IFERROR(IF(TODAY()-VLOOKUP(D53,sort({D$3:D52,A$3:A52},ROW(D$3:D52),0),2,0)>=0,TODAY()-VLOOKUP(D53,sort({D$3:D52,A$3:A52},ROW(D$3:D52),0),2,0),"")))
C54: =IF(B54="","",B54+1/24) | G54: =IF(F54<>"",VLOOKUP(D54,'БАЗА'!$A$5:$E978,5,0)-COUNTIFS($D$2:$D53,D54,$F$2:$F53,F54,$O$2:$O53,"пришел"),"") | H54: =IF(A53="","",IFERROR(IF(TODAY()-VLOOKUP(D54,sort({D$3:D53,A$3:A53},ROW(D$3:D53),0),2,0)>=0,TODAY()-VLOOKUP(D54,sort({D$3:D53,A$3:A53},ROW(D$3:D53),0),2,0),"")))
C55: =IF(B55="","",B55+1/24) | G55: =IF(F55<>"",VLOOKUP(D55,'БАЗА'!$A$5:$E978,5,0)-COUNTIFS($D$2:$D54,D55,$F$2:$F54,F55,$O$2:$O54,"пришел"),"") | H55: =IF(A54="","",IFERROR(IF(TODAY()-VLOOKUP(D55,sort({D$3:D54,A$3:A54},ROW(D$3:D54),0),2,0)>=0,TODAY()-VLOOKUP(D55,sort({D$3:D54,A$3:A54},ROW(D$3:D54),0),2,0),"")))
C56: =IF(B56="","",B56+1/24) | G56: =IF(F56<>"",VLOOKUP(D56,'БАЗА'!$A$5:$E978,5,0)-COUNTIFS($D$2:$D55,D56,$F$2:$F55,F56,$O$2:$O55,"пришел"),"") | H56: =IF(A55="","",IFERROR(IF(TODAY()-VLOOKUP(D56,sort({D$3:D55,A$3:A55},ROW(D$3:D55),0),2,0)>=0,TODAY()-VLOOKUP(D56,sort({D$3:D55,A$3:A55},ROW(D$3:D55),0),2,0),"")))
C57: =IF(B57="","",B57+1/24) | G57: =IF(F57<>"",VLOOKUP(D57,'БАЗА'!$A$5:$E978,5,0)-COUNTIFS($D$2:$D56,D57,$F$2:$F56,F57,$O$2:$O56,"пришел"),"") | H57: =IF(A56="","",IFERROR(IF(TODAY()-VLOOKUP(D57,sort({D$3:D56,A$3:A56},ROW(D$3:D56),0),2,0)>=0,TODAY()-VLOOKUP(D57,sort({D$3:D56,A$3:A56},ROW(D$3:D56),0),2,0),"")))
C58: =IF(B58="","",B58+1/24) | G58: =IF(F58<>"",VLOOKUP(D58,'БАЗА'!$A$5:$E978,5,0)-COUNTIFS($D$2:$D57,D58,$F$2:$F57,F58,$O$2:$O57,"пришел"),"") | H58: =IF(A57="","",IFERROR(IF(TODAY()-VLOOKUP(D58,sort({D$3:D57,A$3:A57},ROW(D$3:D57),0),2,0)>=0,TODAY()-VLOOKUP(D58,sort({D$3:D57,A$3:A57},ROW(D$3:D57),0),2,0),"")))
C59: =IF(B59="","",B59+1/24) | G59: =IF(F59<>"",VLOOKUP(D59,'БАЗА'!$A$5:$E978,5,0)-COUNTIFS($D$2:$D58,D59,$F$2:$F58,F59,$O$2:$O58,"пришел"),"") | H59: =IF(A58="","",IFERROR(IF(TODAY()-VLOOKUP(D59,sort({D$3:D58,A$3:A58},ROW(D$3:D58),0),2,0)>=0,TODAY()-VLOOKUP(D59,sort({D$3:D58,A$3:A58},ROW(D$3:D58),0),2,0),"")))
C60: =IF(B60="","",B60+1/24) | G60: =IF(F60<>"",VLOOKUP(D60,'БАЗА'!$A$5:$E978,5,0)-COUNTIFS($D$2:$D59,D60,$F$2:$F59,F60,$O$2:$O59,"пришел"),"") | H60: =IF(A59="","",IFERROR(IF(TODAY()-VLOOKUP(D60,sort({D$3:D59,A$3:A59},ROW(D$3:D59),0),2,0)>=0,TODAY()-VLOOKUP(D60,sort({D$3:D59,A$3:A59},ROW(D$3:D59),0),2,0),"")))
C61: =IF(B61="","",B61+1/24) | G61: =IF(F61<>"",VLOOKUP(D61,'БАЗА'!$A$5:$E978,5,0)-COUNTIFS($D$2:$D60,D61,$F$2:$F60,F61,$O$2:$O60,"пришел"),"") | H61: =IF(A60="","",IFERROR(IF(TODAY()-VLOOKUP(D61,sort({D$3:D60,A$3:A60},ROW(D$3:D60),0),2,0)>=0,TODAY()-VLOOKUP(D61,sort({D$3:D60,A$3:A60},ROW(D$3:D60),0),2,0),"")))
C62: =IF(B62="","",B62+1/24) | G62: =IF(F62<>"",VLOOKUP(D62,'БАЗА'!$A$5:$E978,5,0)-COUNTIFS($D$2:$D61,D62,$F$2:$F61,F62,$O$2:$O61,"пришел"),"") | H62: =IF(A61="","",IFERROR(IF(TODAY()-VLOOKUP(D62,sort({D$3:D61,A$3:A61},ROW(D$3:D61),0),2,0)>=0,TODAY()-VLOOKUP(D62,sort({D$3:D61,A$3:A61},ROW(D$3:D61),0),2,0),"")))
C63: =IF(B63="","",B63+1/24) | G63: =IF(F63<>"",VLOOKUP(D63,'БАЗА'!$A$5:$E978,5,0)-COUNTIFS($D$2:$D62,D63,$F$2:$F62,F63,$O$2:$O62,"пришел"),"") | H63: =IF(A62="","",IFERROR(IF(TODAY()-VLOOKUP(D63,sort({D$3:D62,A$3:A62},ROW(D$3:D62),0),2,0)>=0,TODAY()-VLOOKUP(D63,sort({D$3:D62,A$3:A62},ROW(D$3:D62),0),2,0),"")))
C64: =IF(B64="","",B64+1/24) | G64: =IF(F64<>"",VLOOKUP(D64,'БАЗА'!$A$5:$E978,5,0)-COUNTIFS($D$2:$D63,D64,$F$2:$F63,F64,$O$2:$O63,"пришел"),"") | H64: =IF(A63="","",IFERROR(IF(TODAY()-VLOOKUP(D64,sort({D$3:D63,A$3:A63},ROW(D$3:D63),0),2,0)>=0,TODAY()-VLOOKUP(D64,sort({D$3:D63,A$3:A63},ROW(D$3:D63),0),2,0),"")))
C65: =IF(B65="","",B65+1/24) | G65: =IF(F65<>"",VLOOKUP(D65,'БАЗА'!$A$5:$E978,5,0)-COUNTIFS($D$2:$D64,D65,$F$2:$F64,F65,$O$2:$O64,"пришел"),"") | H65: =IF(A64="","",IFERROR(IF(TODAY()-VLOOKUP(D65,sort({D$3:D64,A$3:A64},ROW(D$3:D64),0),2,0)>=0,TODAY()-VLOOKUP(D65,sort({D$3:D64,A$3:A64},ROW(D$3:D64),0),2,0),"")))
C66: =IF(B66="","",B66+1/24) | G66: =IF(F66<>"",VLOOKUP(D66,'БАЗА'!$A$5:$E978,5,0)-COUNTIFS($D$2:$D65,D66,$F$2:$F65,F66,$O$2:$O65,"пришел"),"") | H66: =IF(A65="","",IFERROR(IF(TODAY()-VLOOKUP(D66,sort({D$3:D65,A$3:A65},ROW(D$3:D65),0),2,0)>=0,TODAY()-VLOOKUP(D66,sort({D$3:D65,A$3:A65},ROW(D$3:D65),0),2,0),"")))
C67: =IF(B67="","",B67+1/24) | G67: =IF(F67<>"",VLOOKUP(D67,'БАЗА'!$A$5:$E978,5,0)-COUNTIFS($D$2:$D66,D67,$F$2:$F66,F67,$O$2:$O66,"пришел"),"") | H67: =IF(A66="","",IFERROR(IF(TODAY()-VLOOKUP(D67,sort({D$3:D66,A$3:A66},ROW(D$3:D66),0),2,0)>=0,TODAY()-VLOOKUP(D67,sort({D$3:D66,A$3:A66},ROW(D$3:D66),0),2,0),"")))
C68: =IF(B68="","",B68+1/24) | G68: =IF(F68<>"",VLOOKUP(D68,'БАЗА'!$A$5:$E978,5,0)-COUNTIFS($D$2:$D67,D68,$F$2:$F67,F68,$O$2:$O67,"пришел"),"") | H68: =IF(A67="","",IFERROR(IF(TODAY()-VLOOKUP(D68,sort({D$3:D67,A$3:A67},ROW(D$3:D67),0),2,0)>=0,TODAY()-VLOOKUP(D68,sort({D$3:D67,A$3:A67},ROW(D$3:D67),0),2,0),"")))
C69: =IF(B69="","",B69+1/24) | G69: =IF(F69<>"",VLOOKUP(D69,'БАЗА'!$A$5:$E978,5,0)-COUNTIFS($D$2:$D68,D69,$F$2:$F68,F69,$O$2:$O68,"пришел"),"") | H69: =IF(A68="","",IFERROR(IF(TODAY()-VLOOKUP(D69,sort({D$3:D68,A$3:A68},ROW(D$3:D68),0),2,0)>=0,TODAY()-VLOOKUP(D69,sort({D$3:D68,A$3:A68},ROW(D$3:D68),0),2,0),"")))
C70: =IF(B70="","",B70+1/24) | G70: =IF(F70<>"",VLOOKUP(D70,'БАЗА'!$A$5:$E978,5,0)-COUNTIFS($D$2:$D69,D70,$F$2:$F69,F70,$O$2:$O69,"пришел"),"") | H70: =IF(A69="","",IFERROR(IF(TODAY()-VLOOKUP(D70,sort({D$3:D69,A$3:A69},ROW(D$3:D69),0),2,0)>=0,TODAY()-VLOOKUP(D70,sort({D$3:D69,A$3:A69},ROW(D$3:D69),0),2,0),"")))
C71: =IF(B71="","",B71+1/24) | G71: =IF(F71<>"",VLOOKUP(D71,'БАЗА'!$A$5:$E978,5,0)-COUNTIFS($D$2:$D70,D71,$F$2:$F70,F71,$O$2:$O70,"пришел"),"") | H71: =IF(A70="","",IFERROR(IF(TODAY()-VLOOKUP(D71,sort({D$3:D70,A$3:A70},ROW(D$3:D70),0),2,0)>=0,TODAY()-VLOOKUP(D71,sort({D$3:D70,A$3:A70},ROW(D$3:D70),0),2,0),"")))
C72: =IF(B72="","",B72+1/24) | G72: =IF(F72<>"",VLOOKUP(D72,'БАЗА'!$A$5:$E978,5,0)-COUNTIFS($D$2:$D71,D72,$F$2:$F71,F72,$O$2:$O71,"пришел"),"") | H72: =IF(A71="","",IFERROR(IF(TODAY()-VLOOKUP(D72,sort({D$3:D71,A$3:A71},ROW(D$3:D71),0),2,0)>=0,TODAY()-VLOOKUP(D72,sort({D$3:D71,A$3:A71},ROW(D$3:D71),0),2,0),"")))
C73: =IF(B73="","",B73+1/24) | G73: =IF(F73<>"",VLOOKUP(D73,'БАЗА'!$A$5:$E978,5,0)-COUNTIFS($D$2:$D72,D73,$F$2:$F72,F73,$O$2:$O72,"пришел"),"") | H73: =IF(A72="","",IFERROR(IF(TODAY()-VLOOKUP(D73,sort({D$3:D72,A$3:A72},ROW(D$3:D72),0),2,0)>=0,TODAY()-VLOOKUP(D73,sort({D$3:D72,A$3:A72},ROW(D$3:D72),0),2,0),"")))
C74: =IF(B74="","",B74+1/24) | G74: =IF(F74<>"",VLOOKUP(D74,'БАЗА'!$A$5:$E978,5,0)-COUNTIFS($D$2:$D73,D74,$F$2:$F73,F74,$O$2:$O73,"пришел"),"") | H74: =IF(A73="","",IFERROR(IF(TODAY()-VLOOKUP(D74,sort({D$3:D73,A$3:A73},ROW(D$3:D73),0),2,0)>=0,TODAY()-VLOOKUP(D74,sort({D$3:D73,A$3:A73},ROW(D$3:D73),0),2,0),"")))
C75: =IF(B75="","",B75+1/24) | G75: =IF(F75<>"",VLOOKUP(D75,'БАЗА'!$A$5:$E978,5,0)-COUNTIFS($D$2:$D74,D75,$F$2:$F74,F75,$O$2:$O74,"пришел"),"") | H75: =IF(A74="","",IFERROR(IF(TODAY()-VLOOKUP(D75,sort({D$3:D74,A$3:A74},ROW(D$3:D74),0),2,0)>=0,TODAY()-VLOOKUP(D75,sort({D$3:D74,A$3:A74},ROW(D$3:D74),0),2,0),"")))
C76: =IF(B76="","",B76+1/24) | G76: =IF(F76<>"",VLOOKUP(D76,'БАЗА'!$A$5:$E978,5,0)-COUNTIFS($D$2:$D75,D76,$F$2:$F75,F76,$O$2:$O75,"пришел"),"") | H76: =IF(A75="","",IFERROR(IF(TODAY()-VLOOKUP(D76,sort({D$3:D75,A$3:A75},ROW(D$3:D75),0),2,0)>=0,TODAY()-VLOOKUP(D76,sort({D$3:D75,A$3:A75},ROW(D$3:D75),0),2,0),"")))
C77: =IF(B77="","",B77+1/24) | G77: =IF(F77<>"",VLOOKUP(D77,'БАЗА'!$A$5:$E978,5,0)-COUNTIFS($D$2:$D76,D77,$F$2:$F76,F77,$O$2:$O76,"пришел"),"") | H77: =IF(A76="","",IFERROR(IF(TODAY()-VLOOKUP(D77,sort({D$3:D76,A$3:A76},ROW(D$3:D76),0),2,0)>=0,TODAY()-VLOOKUP(D77,sort({D$3:D76,A$3:A76},ROW(D$3:D76),0),2,0),"")))
C78: =IF(B78="","",B78+1/24) | G78: =IF(F78<>"",VLOOKUP(D78,'БАЗА'!$A$5:$E978,5,0)-COUNTIFS($D$2:$D77,D78,$F$2:$F77,F78,$O$2:$O77,"пришел"),"") | H78: =IF(A77="","",IFERROR(IF(TODAY()-VLOOKUP(D78,sort({D$3:D77,A$3:A77},ROW(D$3:D77),0),2,0)>=0,TODAY()-VLOOKUP(D78,sort({D$3:D77,A$3:A77},ROW(D$3:D77),0),2,0),"")))
C79: =IF(B79="","",B79+1/24) | G79: =IF(F79<>"",VLOOKUP(D79,'БАЗА'!$A$5:$E978,5,0)-COUNTIFS($D$2:$D78,D79,$F$2:$F78,F79,$O$2:$O78,"пришел"),"") | H79: =IF(A78="","",IFERROR(IF(TODAY()-VLOOKUP(D79,sort({D$3:D78,A$3:A78},ROW(D$3:D78),0),2,0)>=0,TODAY()-VLOOKUP(D79,sort({D$3:D78,A$3:A78},ROW(D$3:D78),0),2,0),"")))
C80: =IF(B80="","",B80+1/24) | G80: =IF(F80<>"",VLOOKUP(D80,'БАЗА'!$A$5:$E978,5,0)-COUNTIFS($D$2:$D79,D80,$F$2:$F79,F80,$O$2:$O79,"пришел"),"") | H80: =IF(A79="","",IFERROR(IF(TODAY()-VLOOKUP(D80,sort({D$3:D79,A$3:A79},ROW(D$3:D79),0),2,0)>=0,TODAY()-VLOOKUP(D80,sort({D$3:D79,A$3:A79},ROW(D$3:D79),0),2,0),"")))
C81: =IF(B81="","",B81+1/24) | G81: =IF(F81<>"",VLOOKUP(D81,'БАЗА'!$A$5:$E978,5,0)-COUNTIFS($D$2:$D80,D81,$F$2:$F80,F81,$O$2:$O80,"пришел"),"") | H81: =IF(A80="","",IFERROR(IF(TODAY()-VLOOKUP(D81,sort({D$3:D80,A$3:A80},ROW(D$3:D80),0),2,0)>=0,TODAY()-VLOOKUP(D81,sort({D$3:D80,A$3:A80},ROW(D$3:D80),0),2,0),"")))
C82: =IF(B82="","",B82+1/24) | G82: =IF(F82<>"",VLOOKUP(D82,'БАЗА'!$A$5:$E978,5,0)-COUNTIFS($D$2:$D81,D82,$F$2:$F81,F82,$O$2:$O81,"пришел"),"") | H82: =IF(A81="","",IFERROR(IF(TODAY()-VLOOKUP(D82,sort({D$3:D81,A$3:A81},ROW(D$3:D81),0),2,0)>=0,TODAY()-VLOOKUP(D82,sort({D$3:D81,A$3:A81},ROW(D$3:D81),0),2,0),"")))
C83: =IF(B83="","",B83+1/24) | G83: =IF(F83<>"",VLOOKUP(D83,'БАЗА'!$A$5:$E978,5,0)-COUNTIFS($D$2:$D82,D83,$F$2:$F82,F83,$O$2:$O82,"пришел"),"") | H83: =IF(A82="","",IFERROR(IF(TODAY()-VLOOKUP(D83,sort({D$3:D82,A$3:A82},ROW(D$3:D82),0),2,0)>=0,TODAY()-VLOOKUP(D83,sort({D$3:D82,A$3:A82},ROW(D$3:D82),0),2,0),"")))
C84: =IF(B84="","",B84+1/24) | G84: =IF(F84<>"",VLOOKUP(D84,'БАЗА'!$A$5:$E978,5,0)-COUNTIFS($D$2:$D83,D84,$F$2:$F83,F84,$O$2:$O83,"пришел"),"") | H84: =IF(A83="","",IFERROR(IF(TODAY()-VLOOKUP(D84,sort({D$3:D83,A$3:A83},ROW(D$3:D83),0),2,0)>=0,TODAY()-VLOOKUP(D84,sort({D$3:D83,A$3:A83},ROW(D$3:D83),0),2,0),"")))
C85: =IF(B85="","",B85+1/24) | G85: =IF(F85<>"",VLOOKUP(D85,'БАЗА'!$A$5:$E978,5,0)-COUNTIFS($D$2:$D84,D85,$F$2:$F84,F85,$O$2:$O84,"пришел"),"") | H85: =IF(A84="","",IFERROR(IF(TODAY()-VLOOKUP(D85,sort({D$3:D84,A$3:A84},ROW(D$3:D84),0),2,0)>=0,TODAY()-VLOOKUP(D85,sort({D$3:D84,A$3:A84},ROW(D$3:D84),0),2,0),"")))
C86: =IF(B86="","",B86+1/24) | G86: =IF(F86<>"",VLOOKUP(D86,'БАЗА'!$A$5:$E978,5,0)-COUNTIFS($D$2:$D85,D86,$F$2:$F85,F86,$O$2:$O85,"пришел"),"") | H86: =IF(A85="","",IFERROR(IF(TODAY()-VLOOKUP(D86,sort({D$3:D85,A$3:A85},ROW(D$3:D85),0),2,0)>=0,TODAY()-VLOOKUP(D86,sort({D$3:D85,A$3:A85},ROW(D$3:D85),0),2,0),"")))
C87: =IF(B87="","",B87+1/24) | G87: =IF(F87<>"",VLOOKUP(D87,'БАЗА'!$A$5:$E978,5,0)-COUNTIFS($D$2:$D86,D87,$F$2:$F86,F87,$O$2:$O86,"пришел"),"") | H87: =IF(A86="","",IFERROR(IF(TODAY()-VLOOKUP(D87,sort({D$3:D86,A$3:A86},ROW(D$3:D86),0),2,0)>=0,TODAY()-VLOOKUP(D87,sort({D$3:D86,A$3:A86},ROW(D$3:D86),0),2,0),"")))
C88: =IF(B88="","",B88+1/24) | G88: =IF(F88<>"",VLOOKUP(D88,'БАЗА'!$A$5:$E978,5,0)-COUNTIFS($D$2:$D87,D88,$F$2:$F87,F88,$O$2:$O87,"пришел"),"") | H88: =IF(A87="","",IFERROR(IF(TODAY()-VLOOKUP(D88,sort({D$3:D87,A$3:A87},ROW(D$3:D87),0),2,0)>=0,TODAY()-VLOOKUP(D88,sort({D$3:D87,A$3:A87},ROW(D$3:D87),0),2,0),"")))
C89: =IF(B89="","",B89+1/24) | G89: =IF(F89<>"",VLOOKUP(D89,'БАЗА'!$A$5:$E978,5,0)-COUNTIFS($D$2:$D88,D89,$F$2:$F88,F89,$O$2:$O88,"пришел"),"") | H89: =IF(A88="","",IFERROR(IF(TODAY()-VLOOKUP(D89,sort({D$3:D88,A$3:A88},ROW(D$3:D88),0),2,0)>=0,TODAY()-VLOOKUP(D89,sort({D$3:D88,A$3:A88},ROW(D$3:D88),0),2,0),"")))
C90: =IF(B90="","",B90+1/24) | G90: =IF(F90<>"",VLOOKUP(D90,'БАЗА'!$A$5:$E978,5,0)-COUNTIFS($D$2:$D89,D90,$F$2:$F89,F90,$O$2:$O89,"пришел"),"") | H90: =IF(A89="","",IFERROR(IF(TODAY()-VLOOKUP(D90,sort({D$3:D89,A$3:A89},ROW(D$3:D89),0),2,0)>=0,TODAY()-VLOOKUP(D90,sort({D$3:D89,A$3:A89},ROW(D$3:D89),0),2,0),"")))
C91: =IF(B91="","",B91+1/24) | G91: =IF(F91<>"",VLOOKUP(D91,'БАЗА'!$A$5:$E978,5,0)-COUNTIFS($D$2:$D90,D91,$F$2:$F90,F91,$O$2:$O90,"пришел"),"") | H91: =IF(A90="","",IFERROR(IF(TODAY()-VLOOKUP(D91,sort({D$3:D90,A$3:A90},ROW(D$3:D90),0),2,0)>=0,TODAY()-VLOOKUP(D91,sort({D$3:D90,A$3:A90},ROW(D$3:D90),0),2,0),"")))
C92: =IF(B92="","",B92+1/24) | G92: =IF(F92<>"",VLOOKUP(D92,'БАЗА'!$A$5:$E978,5,0)-COUNTIFS($D$2:$D91,D92,$F$2:$F91,F92,$O$2:$O91,"пришел"),"") | H92: =IF(A91="","",IFERROR(IF(TODAY()-VLOOKUP(D92,sort({D$3:D91,A$3:A91},ROW(D$3:D91),0),2,0)>=0,TODAY()-VLOOKUP(D92,sort({D$3:D91,A$3:A91},ROW(D$3:D91),0),2,0),"")))
C93: =IF(B93="","",B93+1/24) | G93: =IF(F93<>"",VLOOKUP(D93,'БАЗА'!$A$5:$E978,5,0)-COUNTIFS($D$2:$D92,D93,$F$2:$F92,F93,$O$2:$O92,"пришел"),"") | H93: =IF(A92="","",IFERROR(IF(TODAY()-VLOOKUP(D93,sort({D$3:D92,A$3:A92},ROW(D$3:D92),0),2,0)>=0,TODAY()-VLOOKUP(D93,sort({D$3:D92,A$3:A92},ROW(D$3:D92),0),2,0),"")))
C94: =IF(B94="","",B94+1/24) | G94: =IF(F94<>"",VLOOKUP(D94,'БАЗА'!$A$5:$E978,5,0)-COUNTIFS($D$2:$D93,D94,$F$2:$F93,F94,$O$2:$O93,"пришел"),"") | H94: =IF(A93="","",IFERROR(IF(TODAY()-VLOOKUP(D94,sort({D$3:D93,A$3:A93},ROW(D$3:D93),0),2,0)>=0,TODAY()-VLOOKUP(D94,sort({D$3:D93,A$3:A93},ROW(D$3:D93),0),2,0),"")))
C95: =IF(B95="","",B95+1/24) | G95: =IF(F95<>"",VLOOKUP(D95,'БАЗА'!$A$5:$E978,5,0)-COUNTIFS($D$2:$D94,D95,$F$2:$F94,F95,$O$2:$O94,"пришел"),"") | H95: =IF(A94="","",IFERROR(IF(TODAY()-VLOOKUP(D95,sort({D$3:D94,A$3:A94},ROW(D$3:D94),0),2,0)>=0,TODAY()-VLOOKUP(D95,sort({D$3:D94,A$3:A94},ROW(D$3:D94),0),2,0),"")))
C96: =IF(B96="","",B96+1/24) | G96: =IF(F96<>"",VLOOKUP(D96,'БАЗА'!$A$5:$E978,5,0)-COUNTIFS($D$2:$D95,D96,$F$2:$F95,F96,$O$2:$O95,"пришел"),"") | H96: =IF(A95="","",IFERROR(IF(TODAY()-VLOOKUP(D96,sort({D$3:D95,A$3:A95},ROW(D$3:D95),0),2,0)>=0,TODAY()-VLOOKUP(D96,sort({D$3:D95,A$3:A95},ROW(D$3:D95),0),2,0),"")))
C97: =IF(B97="","",B97+1/24) | G97: =IF(F97<>"",VLOOKUP(D97,'БАЗА'!$A$5:$E978,5,0)-COUNTIFS($D$2:$D96,D97,$F$2:$F96,F97,$O$2:$O96,"пришел"),"") | H97: =IF(A96="","",IFERROR(IF(TODAY()-VLOOKUP(D97,sort({D$3:D96,A$3:A96},ROW(D$3:D96),0),2,0)>=0,TODAY()-VLOOKUP(D97,sort({D$3:D96,A$3:A96},ROW(D$3:D96),0),2,0),"")))
C98: =IF(B98="","",B98+1/24) | G98: =IF(F98<>"",VLOOKUP(D98,'БАЗА'!$A$5:$E978,5,0)-COUNTIFS($D$2:$D97,D98,$F$2:$F97,F98,$O$2:$O97,"пришел"),"") | H98: =IF(A97="","",IFERROR(IF(TODAY()-VLOOKUP(D98,sort({D$3:D97,A$3:A97},ROW(D$3:D97),0),2,0)>=0,TODAY()-VLOOKUP(D98,sort({D$3:D97,A$3:A97},ROW(D$3:D97),0),2,0),"")))
C99: =IF(B99="","",B99+1/24) | G99: =IF(F99<>"",VLOOKUP(D99,'БАЗА'!$A$5:$E978,5,0)-COUNTIFS($D$2:$D98,D99,$F$2:$F98,F99,$O$2:$O98,"пришел"),"") | H99: =IF(A98="","",IFERROR(IF(TODAY()-VLOOKUP(D99,sort({D$3:D98,A$3:A98},ROW(D$3:D98),0),2,0)>=0,TODAY()-VLOOKUP(D99,sort({D$3:D98,A$3:A98},ROW(D$3:D98),0),2,0),"")))
C100: =IF(B100="","",B100+1/24) | G100: =IF(F100<>"",VLOOKUP(D100,'БАЗА'!$A$5:$E978,5,0)-COUNTIFS($D$2:$D99,D100,$F$2:$F99,F100,$O$2:$O99,"пришел"),"") | H100: =IF(A99="","",IFERROR(IF(TODAY()-VLOOKUP(D100,sort({D$3:D99,A$3:A99},ROW(D$3:D99),0),2,0)>=0,TODAY()-VLOOKUP(D100,sort({D$3:D99,A$3:A99},ROW(D$3:D99),0),2,0),"")))
...

Sheet Схема

Sheet Справка
A1: Время | B1: Мастер | C1: Процедуры | D1: Отметка | E1: Форма оплаты
A2: 0.45833333
A3: 0.46875 | B3: петров | C3: антицеллюлитный | D3: пришел | E3: нал
A4: 0.47916667 | B4: федоров | C4: лимфодренажный | D4: не пришел | E4: безнал
A5: 0.48958333 | B5: иванов | C5: классический | D5: отмена
A6: 0.5
A7: 0.51041667
A8: 0.52083333
A9: 0.53125
A10: 0.54166667
A11: 0.55208333
A12: 0.5625
A13: 0.57291667
A14: 0.58333333
A15: 0.59375
A16: 0.60416667
A17: 0.61458333
... A42: 0.875
